BEGIN:VCALENDAR
VERSION:2.0
PRODID:-//Rutgers Addiction Research Center (RARC) - ECPv6.7.0//NONSGML v1.0//EN
CALSCALE:GREGORIAN
METHOD:PUBLISH
X-WR-CALNAME:Rutgers Addiction Research Center (RARC)
X-ORIGINAL-URL:https://www.addiction.rutgers.edu
X-WR-CALDESC:Events for Rutgers Addiction Research Center (RARC)
REFRESH-INTERVAL;VALUE=DURATION:PT1H
X-Robots-Tag:noindex
X-PUBLISHED-TTL:PT1H
BEGIN:VTIMEZONE
TZID:America/New_York
BEGIN:DAYLIGHT
TZOFFSETFROM:-0500
TZOFFSETTO:-0400
TZNAME:EDT
DTSTART:20250309T070000
END:DAYLIGHT
BEGIN:STANDARD
TZOFFSETFROM:-0400
TZOFFSETTO:-0500
TZNAME:EST
DTSTART:20251102T060000
END:STANDARD
END:VTIMEZONE
BEGIN:VEVENT
DTSTART;TZID=America/New_York:20250502T040000
DTEND;TZID=America/New_York:20250502T180000
DTSTAMP:20260423T225214
CREATED:20250318T181011Z
LAST-MODIFIED:20250318T181011Z
UID:9389-1746158400-1746208800@www.addiction.rutgers.edu
SUMMARY:RARC Anniversary Event - End of Year Review
DESCRIPTION:Please join us for food and drink as we celebrate the Rutgers Addiction Research Center End of Year in Review! This will be an opportunity to connect with colleagues across Rutgers conducting addiction research and our clinical and community partners. \nRARC Director Dr. Danielle Dick will provide brief remarks about the status of the Rutgers Addiction Research Center at 4:30 p.m. Stay tuned for more details!
URL:https://www.addiction.rutgers.edu/event/rarc-anniversary-event-end-of-year-review/
LOCATION:Rutgers Club\, Livingston Campus
ORGANIZER;CN="Rutgers Addiction Research Center":MAILTO:rarc@bhi.rutgers.edu
END:VEVENT
BEGIN:VEVENT
DTSTART;TZID=America/New_York:20250502T093000
DTEND;TZID=America/New_York:20250502T123000
DTSTAMP:20260423T225214
CREATED:20250415T161716Z
LAST-MODIFIED:20250415T161716Z
UID:9597-1746178200-1746189000@www.addiction.rutgers.edu
SUMMARY:SSW Webinar - Harm Reduction: From Principles to Practice
DESCRIPTION:This interactive webinar will discuss all aspects of harm reduction. Participants will be able to identify at least 3 principles of harm reduction work. Participants will be able to define harm reduction. Participants will also be able to differentiate between a successful harm reduction approach and less successful approaches and identify at least two reasons behind unsuccessful approaches. Participants will be introduced into the diagnostic criteria of the DSM and dimensional criteria of the ASAM 3\, in the lens of determining the need of admission to treatment and continued care need from a harm reduction treatment perspective. Participants will be able to identify three different medicated assisted treatments (MAT)\, and discussion of medicinal marijuana being added as an MAT option. [This webinar will complete your prescription opioid social work license requirement.] \n\n\n\nInstructor: \nGlenn Duncan\, LPC\, LCADC\, CCS\, ACS\n\n\nDate: \nFriday\, May 2\, 2025\n\n\nTime: \n9:30 am – 12:30 pm ET\n\n\nLocation: \nLive Interactive Online Webinar\n\n\n\nAt the conclusion of the webinar\, participants will be able to: \n\nDefine harm reduction.\nIdentify two harm reduction stances and be able to define the differences between these stances.\nSummarize at least 3 harm reduction principles\nList how to use the DSM-5 and ASAM 3 criteria to help identify objective criteria to determine admission and/or continuing stay need
URL:https://www.addiction.rutgers.edu/event/ssw-webinar-harm-reduction-from-principles-to-practice-3/
LOCATION:Virtual
END:VEVENT
BEGIN:VEVENT
DTSTART;TZID=America/New_York:20250502T160000
DTEND;TZID=America/New_York:20250502T180000
DTSTAMP:20260423T225214
CREATED:20250423T002026Z
LAST-MODIFIED:20250423T002052Z
UID:9619-1746201600-1746208800@www.addiction.rutgers.edu
SUMMARY:RARC Year in Review and Social Event
DESCRIPTION:REGISTER HERE\nPlease join us for an evening of food and drinks at the RARC’s annual Year in Review and Social Event. This gathering is a great opportunity to connect with fellow Rutgers colleagues engaged in addiction research\, along with our clinical and community partners. \nAt 4:30 p.m.\, Dr. Danielle Dick\, Director of the RARC\, will share brief remarks on the current state of the Center. \nAhead of the main event\, we’ll be hosting a trainee meet & greet hour starting at 3:00 p.m. This hour is dedicated to post-docs\, graduate students\, research assistants\, and any other trainees involved in addiction research. If you plan to attend the meet & greet\, please indicate this on the registration page. \nDirections & Visitor Parking:\nThe Rutgers Club is located on the second floor of Livingston Dining Commons in Piscataway. Click Here for directions. There is a small parking lot next to the Rutgers Club. Additional parking is available at Lot 101. Please register for our special event parking → Click Here!
URL:https://www.addiction.rutgers.edu/event/rarc-year-in-review-and-social-event/
LOCATION:Rutgers Club\, Livingston Campus
ORGANIZER;CN="Rutgers Addiction Research Center":MAILTO:rarc@bhi.rutgers.edu
END:VEVENT
BEGIN:VEVENT
DTSTART;TZID=America/New_York:20250505T120000
DTEND;TZID=America/New_York:20250505T130000
DTSTAMP:20260423T225214
CREATED:20250502T152254Z
LAST-MODIFIED:20250502T152254Z
UID:9639-1746446400-1746450000@www.addiction.rutgers.edu
SUMMARY:CAHBIR Seminar featuring Ahmet Ceceli\, Ph.D. - "Neuroimaging behavioral control in drug addiction for translational insights"
DESCRIPTION:CAHBIR Seminar Announcement \n\nDate: May 5\, 2025\nTime: 12:00PM\nLocation: RWJMS SRB Conference Room (127)\n\nPresenter: Ahmet Ceceli\, Ph.D.\, Post-doctoral Fellow\, Icahn School of Medicine Mount Sinai\nNeuroimaging behavioral control in drug addiction for translational insights\n \nJoin Zoom Meeting\nhttps://rutgers.zoom.us/j/4554725747?pwd=enVaVXVRUHI5Rk5OQWh2bFlIajhFZz09&omn=97637278178\n\nMeeting ID: 455 472 5747\nPassword: 882616\nJoin By Phone\n        +1 305 224 1968 US\n        +1 309 205 3325 US\n        +1 312 626 6799 US (Chicago)\n        +1 646 558 8656 US (New York)
URL:https://www.addiction.rutgers.edu/event/cahbir-seminar-featuring-ahmet-ceceli-ph-d-neuroimaging-behavioral-control-in-drug-addiction-for-translational-insights/
LOCATION:Hybrid Event
END:VEVENT
BEGIN:VEVENT
DTSTART;TZID=America/New_York:20250506T100000
DTEND;TZID=America/New_York:20250506T130000
DTSTAMP:20260423T225214
CREATED:20250415T162520Z
LAST-MODIFIED:20250415T162520Z
UID:9599-1746525600-1746536400@www.addiction.rutgers.edu
SUMMARY:SSW Webinar - Addiction and Recovery: Where We Have Been\, Where We Are Going
DESCRIPTION:This course examines how the field of addiction treatment and recovery has evolved since the development of 12-step recovery spaces in the 1950’s\, from societal conceptualizations about addiction to how treatment and evidence-based practices have shaped what we now call clinical addiction treatment. Particular attention will be paid to how paradigms\, stigma\, and oppressive systems have influenced and shaped addiction and treatment trends. Participants will critically examine the successes and pitfalls of addiction treatment as it stands today\, including specific models and systems of recovery and what the field calls “evidence-based practices”. Special attention will be paid to how the fields of neuroscience\, epigenetics\, and neuropharmacology have informed what we know today about addiction\, and what it means for integrative recovery strategies moving forward. \n\n\n\nInstructor: \nKat Glick\, M.Ed\, LPC\, ACS\, MAC\, CSE\, CIMHP\n\n\nDate: \nTuesday\, May 6\, 2025\n\n\nTime: \n10:00 am – 1:00 pm ET\n\n\nLocation: \nLive Interactive Online Webinar
URL:https://www.addiction.rutgers.edu/event/ssw-webinar-addiction-and-recovery-where-we-have-been-where-we-are-going-2/
LOCATION:Virtual
END:VEVENT
BEGIN:VEVENT
DTSTART;TZID=America/New_York:20250507T093000
DTEND;TZID=America/New_York:20250507T123000
DTSTAMP:20260423T225214
CREATED:20250415T163151Z
LAST-MODIFIED:20250415T163151Z
UID:9601-1746610200-1746621000@www.addiction.rutgers.edu
SUMMARY:SSW Webinar - Ethical and Legal Issues in ﻿Substance Abuse Counseling
DESCRIPTION:This interactive webinar focuses on the major elements of legal issues surrounding counselors in working with patients who have substance use disorders. In this webinar\, participants will learn about the different areas of legal concern for today’s counselors working with clients who have both mental health and substance use issues. Legal areas include scope of clinical practice regarding supervision (including 2019 changes and proposed rule changes)\, ADC telehealth and telemedicine regulations (proposed in 2021)\, and NJ Uniform Enforcement Act changes (including 2021 changes). Other recent changes to include the required 3 hours of Legal Standards training include regulation/statute changes in ADC continuing education (3 hours of Legal Standards) and statutory requirements of 1 hour of opioid training (for those dually licensed professionals). \n*This webinar does not meet the prescription opioid requirement for social work.\n*This webinar does not qualify for NBCC clock hours in ethics for Licensed Professional Counselors. \n\n\n\nInstructor: \nGlenn Duncan\, LPC\, LCADC\, CCS\, ACS\n\n\nDate: \nWednesday\, May 7\, 2025\n\n\nTime: \n9:30 am – 12:30 pm ET\n\n\nLocation: \nLive Interactive Online Webinar\n\n\n\nAt the conclusion of this webinar\, participants will be able to: \n\nDifferentiate the major elements necessary to be a qualified supervisor according to the NJ LCADC/CADC licensure regulations.\nIdentify at least 3 of the telehealth/telemedicine NJ LCADC/CADC regulatory categories.\nList at least 3 of the NJ Uniform Enforcement Act Duty to Report components.\nExplain which websites are necessary to keep up on licensure regulations changes in NJ.
URL:https://www.addiction.rutgers.edu/event/ssw-webinar-ethical-and-legal-issues-in-substance-abuse-counseling-4/
LOCATION:Virtual
END:VEVENT
BEGIN:VEVENT
DTSTART;TZID=America/New_York:20250508T120000
DTEND;TZID=America/New_York:20250508T130000
DTSTAMP:20260423T225214
CREATED:20250415T140934Z
LAST-MODIFIED:20250415T140934Z
UID:9578-1746705600-1746709200@www.addiction.rutgers.edu
SUMMARY:RARC Treatment & Recovery Workgroup Meeting - Hybrid
DESCRIPTION:Click here to register to attend this meeting! RSVP by May 5th \nIn-person: UBHC Building\, Room D203\, 671 Hoes Lane W. Piscataway\, NJ 08854 \nVirtual: https://rutgers.zoom.us/j/92136066559?pwd=CkdtQXSBc4mTjoBTmVGtWROaBL5adQ.1x \nMeeting ID: 921 3606 6559\nPassword: 738354 \nMeeting Highlights: \n\nFeaturing a Presentation from the Clinical Trials Office (CTO): Join us for an in-person presentation from the Rutgers Health CTO\, highlighting the resources and support available to faculty conducting clinical trials and prospective studies. Learn how the CTO streamlines research processes across Rutgers Health to improve trial efficiency and implementation.\nWorks in Progress\n\nLunch will be provided for in-person attendees!
URL:https://www.addiction.rutgers.edu/event/rarc-treatment-recovery-workgroup-meeting-hybrid/
LOCATION:Room D203\, University Behavioral Health Care building\, 671 Hoes Ln W\, Piscataway\, 08854
END:VEVENT
BEGIN:VEVENT
DTSTART;TZID=America/New_York:20250509T120000
DTEND;TZID=America/New_York:20250509T130000
DTSTAMP:20260423T225214
CREATED:20250314T185952Z
LAST-MODIFIED:20250314T185952Z
UID:9333-1746792000-1746795600@www.addiction.rutgers.edu
SUMMARY:NJHRC's Monthly Person-Centered Overdose Education & Naloxone Training
DESCRIPTION:Evidence shows that among the most likely to witness an overdose are people who use drugs\, care providers\, neighbors\, and loved ones – none of which are mutually exclusive\, and all of which may include you. NJHRC will be hosting monthly virtual Overdose Education & Naloxone training to learn how to identify and respond to an opioid overdose with rescue breaths\, naloxone\, and radical love. Our program will also cover the nuances surrounding current drug supply trends\, with updated information as overdose responses evolve in correlation. By centering the safety and autonomy of both the individual receiving care and the responder\, we can produce better outcomes for the community at large. \nJoin us for our next training to learn how to respond to an overdose and keep your community safer. \nAttendees in New Jersey can email mailing@njharmreduction.org or call/text 1-877-4NARCAN if they’d like to receive a free naloxone kit and/or other safer use supplies by mail. Conversations on drug policy and drug supply may be centered around New Jersey\, but you are welcome in this training no matter your location. \nThis virtual training will be held on Zoom on the second Friday of every month. (May 9\, June 12\, July 11\, Aug 8\, Sept 12\, Oct 11)\nRegister now to reserve your spot!
URL:https://www.addiction.rutgers.edu/event/njhrcs-monthly-person-centered-overdose-education-naloxone-training-2/
LOCATION:Virtual
END:VEVENT
BEGIN:VEVENT
DTSTART;TZID=America/New_York:20250513T080000
DTEND;TZID=America/New_York:20250513T170000
DTSTAMP:20260423T225214
CREATED:20250403T145141Z
LAST-MODIFIED:20250403T145141Z
UID:9534-1747123200-1747155600@www.addiction.rutgers.edu
SUMMARY:Rutgers Health BMIHAI - 2025 Symposium in Biomedical Informatics and Health AI
DESCRIPTION:We are excited to invite you to the 2025 Annual Symposium in Biomedical Informatics and Health AI on May 13\, 2025\, which is a part of Rutgers Health Center for Biomedical Informatics and Health AI (BMIHAI) Roadmap Initiative. The Symposium theme this year is “Frontiers in Biomedical and Health AI: applications\, challenges\, and opportunities”. Registration and abstract submission deadline is April 15\, 2025.\n\nDon’t miss the opportunity to connect with Rutgers Health Biomedical and Health AI researchers\, build new collaborations\, learn about state-of-the-art advances in Health AI from academic and industry experts\,  explore careers in AI\, and lead the charge in establishing Rutgers Health as a national and international hub for Biomedical Informatics and Health AI.\n\nFor more information\, abstract requirements\, and registration\, click here.
URL:https://www.addiction.rutgers.edu/event/rutgers-health-bmihai-2025-symposium-in-biomedical-informatics-and-health-ai/
LOCATION:College Avenue Student Center (Multipurpose Room)\, 126 College Avenue\, New Brunswick\, NJ\, 08901
END:VEVENT
BEGIN:VEVENT
DTSTART;TZID=America/New_York:20250513T110000
DTEND;TZID=America/New_York:20250513T120000
DTSTAMP:20260423T225214
CREATED:20250509T151140Z
LAST-MODIFIED:20250509T151140Z
UID:9669-1747134000-1747137600@www.addiction.rutgers.edu
SUMMARY:Rutgers Psychiatry Grand Rounds - RWJ Forensic Psychiatry Fellows - Daniel Eddins\, MD & Jennifer Wilkinson\, MD
DESCRIPTION:Meeting URL: https://rutgers.zoom.us/j/96856675957?pwd=IJbP9ufV9wvxPzCT4NFMazYimfZah5.1\n\nhttps://rutgers.zoom.us/j/96856675957?pwd=IJbP9ufV9wvxPzCT4NFMazYimfZah5.1\n\n\n\nMeeting ID: 968 5667 5957\n\n \n\n\n\nPassword: 710148\n\n 
URL:https://www.addiction.rutgers.edu/event/rutgers-psychiatry-grand-rounds-rwj-forensic-psychiatry-fellows-daniel-eddins-md-jennifer-wilkinson-md/
LOCATION:Virtual
END:VEVENT
BEGIN:VEVENT
DTSTART;TZID=America/New_York:20250513T120000
DTEND;TZID=America/New_York:20250513T130000
DTSTAMP:20260423T225214
CREATED:20250509T152413Z
LAST-MODIFIED:20250509T152413Z
UID:9672-1747137600-1747141200@www.addiction.rutgers.edu
SUMMARY:NJ ACTS Special Populations Seminar with Danya M. Qato\, PharmD\, MPH\, PhD - "Epidemiologic Challenges in Using Claims Data to Study Opioid Use Disorder Treatment Trajectories"
DESCRIPTION:Join us on Tuesday\, May 13\, at 12 pm ET for a presentation of the NJ ACTS Special Populations Core 2025 Seminar Series -“Epidemiologic Challenges in Using Claims Data to Study Opioid Use Disorder Treatment Trajectories” with Danya M. Qato\, PharmD\, MPH\, PhD.\n\nThe presentation will introduce the audience to her FDA-funded project titled ‘Data-informed Models to Identify Optimal Opioid Use Disorder (OUD) Treatment Trajectories’ and discuss specific epidemiologic challenges to using longitudinal healthcare claims data to study OUD treatment pathways\, namely focused on implications of cohort\, index date\, and exposure definitions. Dr. Qato will also share preliminary findings from her analysis of healthcare claims data of Medicare and commercially-insured populations with OUD.\n\nDr. Danya Qato is an associate professor in the Department of Practice\, Sciences\, and Health Outcomes Research at the University of Maryland School of Pharmacy with a secondary appointment in Epidemiology at the School of Medicine. She is a pharmacist\, epidemiologist\, and health services researcher whose research in improving care for older adults and those with opioid and other substance use disorders is currently or has previously been funded by the National Institute on Aging\, the Food and Drug Administration\, the Robert Wood Johnson Foundation\, and the Institute for Clinical and Translational Research.\n\nRegister for the event: go.rutgers.edu/9lj1i8h6
URL:https://www.addiction.rutgers.edu/event/nj-acts-special-populations-seminar-with-danya-m-qato-pharmd-mph-phd-epidemiologic-challenges-in-using-claims-data-to-study-opioid-use-disorder-treatment-trajectories/
LOCATION:Virtual
END:VEVENT
BEGIN:VEVENT
DTSTART;TZID=America/New_York:20250515T120000
DTEND;TZID=America/New_York:20250515T130000
DTSTAMP:20260423T225214
CREATED:20250318T181310Z
LAST-MODIFIED:20250424T232715Z
UID:9391-1747310400-1747314000@www.addiction.rutgers.edu
SUMMARY:RARC Interest Group on Cannabis Meeting – Featuring Two New Research Presentations
DESCRIPTION:Going us for our next RARC Interest Group on Cannabis Meeting! \nWe are excited to feature two presentations during this meeting:\nPresentation 1\nTopic: Impact of Cannabis Policy on Use Behaviors Among Young Adults\nPresenter: Allison Glasser\, Ph.D.\, MPH\nPostdoctoral Fellow\, Rutgers Institute for Nicotine & Tobacco Studies \nPresentation 2\nTopic: Prevalence of Maternal Substance Use Before and After COVID-19 and Recreational Cannabis Legalization in New Jersey \nPresenters: \n\nJiawen Zhao\, M.S.\, Biostatistician\, Robert Wood Johnson Medical School\nAbigail Gulchin\, Medical Student\, Robert Wood Johnson Medical School\nJessica Salvatore\, Ph.D.\, Associate Professor of Psychiatry\, Robert Wood Johnson Medical School; Director\, Genes\, Environments\, and Neurodevelopment in Addictions (GENA) Program\n\nIf you are interested in attending this meeting\, please email rarc@bhi.rutgers.edu for the meeting link.
URL:https://www.addiction.rutgers.edu/event/rarc-interest-group-on-cannabis-meeting-featuring-allison-glasser-ph-d-mph-impact-of-cannabis-policy-on-use-behaviors-among-young-adults/
LOCATION:Virtual
ORGANIZER;CN="Rutgers Addiction Research Center":MAILTO:rarc@bhi.rutgers.edu
END:VEVENT
BEGIN:VEVENT
DTSTART;TZID=America/New_York:20250515T120000
DTEND;TZID=America/New_York:20250515T130000
DTSTAMP:20260423T225214
CREATED:20250418T143238Z
LAST-MODIFIED:20250418T150659Z
UID:9614-1747310400-1747314000@www.addiction.rutgers.edu
SUMMARY:RARC Interest Group on Cannabis Workgroup Meeting: Impact of cannabis policy on use behaviors among young adults
DESCRIPTION:Join us for a virtual gathering featuring Dr. Allison Glasser (Rutgers Institute for Nicotine & Tobacco Studies)\, who will present on the impact of cannabis policy on use behaviors among young adults. This session offers a chance for addiction researchers across Rutgers to connect\, share ideas\, and build interdisciplinary collaborations. \n \nAll Rutgers-affiliated individuals are invited to attend the RARC Interest Group on Cannabis meetings. If you are interested in attending\, please reach out to rarc@bhi.rutgers.edu for the Zoom meeting details.
URL:https://www.addiction.rutgers.edu/event/rarc-interest-group-on-cannabis-workgroup-meeting/
LOCATION:Virtual
ORGANIZER;CN="Rutgers Addiction Research Center":MAILTO:rarc@bhi.rutgers.edu
END:VEVENT
BEGIN:VEVENT
DTSTART;TZID=America/New_York:20250515T130000
DTEND;TZID=America/New_York:20250515T140000
DTSTAMP:20260423T225214
CREATED:20250506T141148Z
LAST-MODIFIED:20250506T141309Z
UID:9662-1747314000-1747317600@www.addiction.rutgers.edu
SUMMARY:TARP Meeting with Dr. Julie Blendy – “Molecular and Genetic Basis of Opioid Use Disorder: Of Mice and Men”
DESCRIPTION:  \nIn-person: Deans Conference Room\, Research Tower\, 675 Hoes Ln W\, Piscataway\, New Jersey\, 07754\nZoom Meeting: https://rutgers.zoom.us/j/94874945042?pwd=dczy71TJ9DlbCv3jwB90rs9ZQIxSqN.1 \nMeeting ID: 948 7494 5042\nPassword: 726631
URL:https://www.addiction.rutgers.edu/event/tarp-meeting-with-dr-julie-blendy-molecular-and-genetic-basis-of-opioid-use-disorder-of-mice-and-men/
LOCATION:Dean’s Conference Room\, Research Tower\, Busch Campus\, 675 Hoes Lane\, West Piscataway\, 08854
END:VEVENT
BEGIN:VEVENT
DTSTART;TZID=America/New_York:20250527T093000
DTEND;TZID=America/New_York:20250527T153000
DTSTAMP:20260423T225214
CREATED:20250520T151107Z
LAST-MODIFIED:20250520T151107Z
UID:9691-1748338200-1748359800@www.addiction.rutgers.edu
SUMMARY:SSW Webinar - Cognitive Behavioral Therapy in Treatment of Substance Abuse Disorders
DESCRIPTION:The Cognitive-Behavioral Therapy in Treatment of Substance Use Disorders training is a clinical webinar that reviews Cognitive-Behavioral Therapy theory and interventions. The thought-feeling-action model of cognitive therapy will be discussed in the context of substance use. The training builds on foundational knowledge and incorporates clinical considerations and specific interventions in treatment of Substance Use Disorders. The training focuses on core cognitive and behavioral interventions while adding elective therapeutic components to customize treatment for clients. The training targets clinicians who provide individual substance use treatment. Training experience will be highly interactive with ample opportunity for learning and refining skills through role-play\, demonstration\, and a mock case-conceptualization exercise. *This is a 5.5 hours webinar. Attendees must attend the full day to receive a certificate of completion. \n\n\n\nInstructor: \nBernard Showers\, DSW\, LCSW\n\n\nDate: \nTuesday\, May 27\, 2025\n\n\nTime: \n9:30 am – 3:30 pm ET\n\n\nLocation: \nLive Interactive Online Webinar\n\n\n\nFor more information\, click here
URL:https://www.addiction.rutgers.edu/event/ssw-webinar-cognitive-behavioral-therapy-in-treatment-of-substance-abuse-disorders-2/
LOCATION:Virtual
END:VEVENT
END:VCALENDAR