BEGIN:VCALENDAR
VERSION:2.0
PRODID:-//Rutgers Addiction Research Center (RARC) - ECPv6.7.0//NONSGML v1.0//EN
CALSCALE:GREGORIAN
METHOD:PUBLISH
X-WR-CALNAME:Rutgers Addiction Research Center (RARC)
X-ORIGINAL-URL:https://www.addiction.rutgers.edu
X-WR-CALDESC:Events for Rutgers Addiction Research Center (RARC)
REFRESH-INTERVAL;VALUE=DURATION:PT1H
X-Robots-Tag:noindex
X-PUBLISHED-TTL:PT1H
BEGIN:VTIMEZONE
TZID:America/New_York
BEGIN:DAYLIGHT
TZOFFSETFROM:-0500
TZOFFSETTO:-0400
TZNAME:EDT
DTSTART:20240310T070000
END:DAYLIGHT
BEGIN:STANDARD
TZOFFSETFROM:-0400
TZOFFSETTO:-0500
TZNAME:EST
DTSTART:20241103T060000
END:STANDARD
END:VTIMEZONE
BEGIN:VEVENT
DTSTART;TZID=America/New_York:20241101T090000
DTEND;TZID=America/New_York:20241101T170000
DTSTAMP:20260421T100142
CREATED:20240927T154354Z
LAST-MODIFIED:20240927T154423Z
UID:8350-1730451600-1730480400@www.addiction.rutgers.edu
SUMMARY:NYSPA Addictions Division Conference - Navigating the Depths: The Psychological Treatment of Addictive Disorders
DESCRIPTION:Join The Division on Addictions of the New York State Psychological Association (NYSPA) and the Concentration in Mental Health and Substance Abuse Counseling at The New School for Social Research for our upcoming in-person conference! Topics at this year’s conference will include: panels on process addictions like gambling\, eating\, and out-of-control sexual behavior; on integration of harm reduction principles with other forms of addictions treatment and support; and a live demonstration of chair-work psychotherapy; and a presentation on psilocybin-assisted treatment of addiction. \nNovember 1\, 2024\n9:00am to 5:00pm \nIn person: Scandinavia House\, 58 Park Avenue\, New York\, NY 10016 \nFor more information and registration\, click here.
URL:https://www.addiction.rutgers.edu/event/nyspa-addictions-division-conference-navigating-the-depths-the-psychological-treatment-of-addictive-disorders/
END:VEVENT
BEGIN:VEVENT
DTSTART;TZID=America/New_York:20241111T140000
DTEND;TZID=America/New_York:20241111T153000
DTSTAMP:20260421T100142
CREATED:20241008T135618Z
LAST-MODIFIED:20241008T135710Z
UID:8406-1731333600-1731339000@www.addiction.rutgers.edu
SUMMARY:CST Virtual Workshop - Effective Science Communication: Balancing Simplicity and Impact
DESCRIPTION:This workshop will offer tools for effectively communicating complex scientific discoveries to diverse audiences\, with a focus on distilling research projects into clear\, simple\, and impactful messages. \nFor more information and registration\, click here.
URL:https://www.addiction.rutgers.edu/event/cst-virtual-workshop-effective-science-communication-balancing-simplicity-and-impact/
LOCATION:Virtual
END:VEVENT
BEGIN:VEVENT
DTSTART;TZID=America/New_York:20241112T110000
DTEND;TZID=America/New_York:20241112T120000
DTSTAMP:20260421T100142
CREATED:20241107T140428Z
LAST-MODIFIED:20241107T140516Z
UID:8566-1731409200-1731412800@www.addiction.rutgers.edu
SUMMARY:Psychiatry Grand Rounds with Jessica Salvatore\, "Love and Drugs: How Social Relationships Shape Risk for Alcohol and Substance Use Disorder"
DESCRIPTION:The Rutgers Department of Psychiatry is pleased to invite you join to us for our Grand Rounds Session on Tuesday\, November 12\, 2024 @ 11AM. \nZoom Meeting URL:  https://rutgers.zoom.us/j/96856675957?pwd=IJbP9ufV9wvxPzCT4NFMazYimfZah5.1 \nMeeting ID: 968 5667 5957\nPassword: 710148
URL:https://www.addiction.rutgers.edu/event/psychiatry-grand-rounds-with-jessica-salvatore-love-and-drugs-how-social-relationships-shape-risk-for-alcohol-and-substance-use-disorder/
LOCATION:Virtual
END:VEVENT
BEGIN:VEVENT
DTSTART;TZID=America/New_York:20241113T130000
DTEND;TZID=America/New_York:20241114T160000
DTSTAMP:20260421T100142
CREATED:20241011T191716Z
LAST-MODIFIED:20241011T191716Z
UID:8429-1731502800-1731600000@www.addiction.rutgers.edu
SUMMARY:NIH Grants Process Primer: Application to Award
DESCRIPTION:Navigating the National Institutes of Health (NIH) grants process can be overwhelming for those new to working with NIH. This past spring\, the NIH Office of Extramural Research (OER) and the Center for Scientific Review (CSR) partnered to present a 1-hour webinar\, A Walk-Through of the NIH Grants Process. \nOER and CSR are again combining efforts for an expanded\, two-part\, interactive virtual event – NIH Grants Process Primer: Application to Award – taking place on November 13-14\, 2024 from 1:00 – 4:00 p.m. ET (see this promotional video). \nUnderstanding NIH’s overall structure and the foundation of the agency’s grants process is vital to successfully applying for NIH funding. To help you on this journey\, the NIH invites you to participate in a two-part webinar designed to help inform and clarify important elements from application preparation to award. Register once and gain access to Part One and Part Two. \nNovember 13\, 2024 / 1:00 – 4:00 P.M. Eastern Time Zone\nPart One: An Overview NIH experts will provide an overview of pre-award activities and resources – from planning your application through the review process to award determination. \nNovember 14\, 2024 / 1:00 – 4:00 P.M. Eastern Time Zone\nPart Two: An Interactive Experience Engaging activities and demonstrations will offer participants further insight into systems and resources utilized in the pre-award process. \nThroughout both days\, NIH experts will be available to address questions submitted during registration to help smooth the path toward a successful NIH application process. \nFor more information\, click here.
URL:https://www.addiction.rutgers.edu/event/nih-grants-process-primer-application-to-award/
LOCATION:Virtual
END:VEVENT
BEGIN:VEVENT
DTSTART;TZID=America/New_York:20241119T100000
DTEND;TZID=America/New_York:20241119T120000
DTSTAMP:20260421T100142
CREATED:20240801T143015Z
LAST-MODIFIED:20240801T143015Z
UID:7706-1732010400-1732017600@www.addiction.rutgers.edu
SUMMARY:GSAPP Webinar - Introduction to Psychedelic Assisted Therapy (PAT) for Mental Health Practitioners
DESCRIPTION:This course seeks to provide mental health practitioners with an overview of Psychedelic Assisted Therapy (PAT) as it stands today\, including the use of ketamine\, MDMA and psilocybin. The field of psychedelic assisted psychotherapy is changing and evolving\, with new laws being introduced across the country at a rapid pace. This course will include topics such as; brief history of psychedelics and the field of psychology in the US\, as well as ethical considerations and an overview of current legal limitations and laws. Our presenters will discuss the anatomy of a PAT session\, harm reduction in the field of psychedelic work\, cultural concerns and considerations\, as well as increasing accessibility for under-served populations. Special consideration will be paid to the importance of preparation and integration work for all clients\, which providers qualify to provide PAT and the role of “sitters” or non licensed practitioners\, clients who make good PAT referrals\, and mental health challenges and issues which may be helped or improved by PAT. Finally this course will explore PAT clinics and retreats\, both domestic and abroad. We will provide resources for further learning and how to get started building your PAT practice. \nFor more information and registration\, click here.
URL:https://www.addiction.rutgers.edu/event/gsapp-webinar-introduction-to-psychedelic-assisted-therapy-pat-for-mental-health-practitioners/
LOCATION:Virtual
ORGANIZER;CN="Rutgers Graduate School of Applied and Professional Psychology":MAILTO:ce@gsapp.rutgers.edu
END:VEVENT
BEGIN:VEVENT
DTSTART;TZID=America/New_York:20241119T110000
DTEND;TZID=America/New_York:20241119T120000
DTSTAMP:20260421T100142
CREATED:20241114T154548Z
LAST-MODIFIED:20241114T154548Z
UID:8602-1732014000-1732017600@www.addiction.rutgers.edu
SUMMARY:Rutgers Psychiatry Grand Rounds with Anna Konova\, PhD\, - Cognitive Neuroscience of Addiction Treatment and Recovery
DESCRIPTION:The Rutgers Department of Psychiatry is pleased to invite you join to us for our Grand Rounds Session on Tuesday\, November 19\, 2024 @ 11AM. \nMeeting URL: https://rutgers.zoom.us/j/96856675957?pwd=IJbP9ufV9wvxPzCT4NFMazYimfZah5.1\nMeeting ID: 968 5667 5957\nPassword: 710148 \n 
URL:https://www.addiction.rutgers.edu/event/rutgers-psychiatry-grand-rounds-with-anna-konova-phd-cognitive-neuroscience-of-addiction-treatment-and-recovery/
LOCATION:Virtual
END:VEVENT
BEGIN:VEVENT
DTSTART;TZID=America/New_York:20241120T130000
DTEND;TZID=America/New_York:20241120T140000
DTSTAMP:20260421T100142
CREATED:20241106T155221Z
LAST-MODIFIED:20241106T155221Z
UID:8552-1732107600-1732111200@www.addiction.rutgers.edu
SUMMARY:TARP Seminar featuring Ryan W. Logan\, UMass Chan Medical School - "Sleep and Circadian Dysfunction in Opioid Use Disorder"
DESCRIPTION:These events are for all TARP and RARC faculty and trainees\, as well as collaborators and friends\, so feel free to pass along the invitation to others. Food and drinks will be provided. \nDate: Wednesday\, November 20\, 2024\nTime: 1:00 p.m.\nIn-person Location: Dean’s Conference Room\, Research Tower\, Busch Campus\, 675 Hoes Ln W\, Piscataway\, NJ 08854\nVirtual via Zoom: CLICK HERE\nMeeting ID: 940 7812 6971\nPassword: 837489
URL:https://www.addiction.rutgers.edu/event/tarp-seminar-featuring-ryan-w-logan-umass-chan-medical-school-sleep-and-circadian-dysfunction-in-opioid-use-disorder/
LOCATION:Dean’s Conference Room\, Research Tower\, Busch Campus\, 675 Hoes Lane\, West Piscataway\, 08854
END:VEVENT
BEGIN:VEVENT
DTSTART;TZID=America/New_York:20241121T090000
DTEND;TZID=America/New_York:20241121T110000
DTSTAMP:20260421T100142
CREATED:20240801T144210Z
LAST-MODIFIED:20241107T213528Z
UID:7708-1732179600-1732186800@www.addiction.rutgers.edu
SUMMARY:GSAPP Webinar - Medical and Legal Marijuana in NJ: Practice and Policy Issues
DESCRIPTION:The goal of this interactive workshop is to identify the changes that have occurred in the NJ Medicinal Marijuana Program. The history of marijuana legalization and major events that have shaped this history are discussed. Known scientific research on the benefits of medicinal marijuana and the risks associated with marijuana usage are covered\, as well as the continued barriers to better scientific research on this topic. Interactive exercises are incorporated. Other exercise includes the participants discussing how treatment is impacted by medicinal marijuana. \nParticipants will be able to: \n\nAt the end of this course\, participants will be able to interpret three changes that have occurred since 2019 in the NJ Medicinal Marijuana Program.\nAt the end of this course\, participants will be able to analyze whether to continue services for a client on medicinal marijuana if their only diagnosis is cannabis use disorder.\nAt the end of this course\, participants will be able to identify at least three key historical events that shaped marijuana’s legal status in the United States.\n\nInstructor: Glenn Duncan\, LPC\, LCADC\, CCS\, ACS \nFor more details and registration\, click here.
URL:https://www.addiction.rutgers.edu/event/gsapp-webinar-medical-and-legal-marijuana-in-nj-practice-and-policy-issues/
LOCATION:Virtual
ORGANIZER;CN="Rutgers Graduate School of Applied and Professional Psychology":MAILTO:ce@gsapp.rutgers.edu
END:VEVENT
BEGIN:VEVENT
DTSTART;TZID=America/New_York:20241121T120000
DTEND;TZID=America/New_York:20241121T133000
DTSTAMP:20260421T100142
CREATED:20241025T112602Z
LAST-MODIFIED:20241030T173558Z
UID:8485-1732190400-1732195800@www.addiction.rutgers.edu
SUMMARY:RARC Treatment and Recovery Workgroup - Inaugural Lunch Meeting!
DESCRIPTION:The Rutgers Addiction Research Center (RARC) is thrilled to announce the launch of the Treatment & Recovery Workgroup\, a new initiative led by Dr. Ethan Cowan\, Associate Director of Treatment & Recovery at RARC. The purpose of this gathering is to bring together leading minds in the field of addiction research from across Rutgers\, specifically those working on treatment and recovery. We aim to foster an environment of idea exchange\, facilitate networking opportunities\, and spark collaborations that can drive impactful\, interdisciplinary research projects. This meeting marks the beginning of what we hope will be an ongoing conversation among researchers dedicated to advancing treatment and recovery outcomes. \nWe invite you to join us for the inaugural meeting on Thursday\, November 21st\, from 12:00 PM to 1:30 PM in Room D203 at the University Behavioral Health Care building (671 Hoes Ln W\, Piscataway\, NJ 08854). Lunch will be provided. For those unable to attend in person\, a hybrid option will be available via Zoom. \nThis event is an excellent opportunity to connect\, collaborate\, and contribute to advancing treatment and recovery outcomes. Please RSVP by Monday\, November 18th using the link below or in the attached flyer. \nRSVP Survey Link: https://rutgers.ca1.qualtrics.com/jfe/form/SV_9vujX7WP86thCIK \nWe look forward to your involvement in this exciting new initiative! \n  \n 
URL:https://www.addiction.rutgers.edu/event/clinical-research-in-addiction-treatment-and-recovery-workgroup-inaugural-lunch-meeting/
LOCATION:Room D203\, University Behavioral Health Care building\, 671 Hoes Ln W\, Piscataway\, 08854
ORGANIZER;CN="Rutgers Addiction Research Center":MAILTO:rarc@bhi.rutgers.edu
END:VEVENT
BEGIN:VEVENT
DTSTART;TZID=America/New_York:20241121T123000
DTEND;TZID=America/New_York:20241121T133000
DTSTAMP:20260421T100142
CREATED:20241115T162711Z
LAST-MODIFIED:20241115T162711Z
UID:8612-1732192200-1732195800@www.addiction.rutgers.edu
SUMMARY:TRACC Seminar Series with Dr. Helena Hansen - "Whiteout: How Racial Capitalism Changed the Color of Opioids in America" 
DESCRIPTION:Zoom link: https://ccny.zoom.us/j/81033133854?pwd=qmVHOS3NY7LUxlokPfLMioOp73EwWO.1
URL:https://www.addiction.rutgers.edu/event/tracc-seminar-series-with-dr-helena-hansen-whiteout-how-racial-capitalism-changed-the-color-of-opioids-in-america/
LOCATION:Virtual
END:VEVENT
END:VCALENDAR