BEGIN:VCALENDAR
VERSION:2.0
PRODID:-//Rutgers Addiction Research Center (RARC) - ECPv6.7.0//NONSGML v1.0//EN
CALSCALE:GREGORIAN
METHOD:PUBLISH
X-WR-CALNAME:Rutgers Addiction Research Center (RARC)
X-ORIGINAL-URL:https://www.addiction.rutgers.edu
X-WR-CALDESC:Events for Rutgers Addiction Research Center (RARC)
REFRESH-INTERVAL;VALUE=DURATION:PT1H
X-Robots-Tag:noindex
X-PUBLISHED-TTL:PT1H
BEGIN:VTIMEZONE
TZID:America/New_York
BEGIN:DAYLIGHT
TZOFFSETFROM:-0500
TZOFFSETTO:-0400
TZNAME:EDT
DTSTART:20260308T070000
END:DAYLIGHT
BEGIN:STANDARD
TZOFFSETFROM:-0400
TZOFFSETTO:-0500
TZNAME:EST
DTSTART:20261101T060000
END:STANDARD
END:VTIMEZONE
BEGIN:VEVENT
DTSTART;TZID=America/New_York:20260422T090000
DTEND;TZID=America/New_York:20260422T150000
DTSTAMP:20260421T005853
CREATED:20260226T180858Z
LAST-MODIFIED:20260226T180858Z
UID:10840-1776848400-1776870000@www.addiction.rutgers.edu
SUMMARY:Global Crossroads Symposium: Confronting Hidden Battles Behind the World Stage - Uniting Against Illicit Drugs\, Trafficking and Emerging Risks in a Connected World
DESCRIPTION:Join leaders from the Drug Enforcement Administration (DEA)\, Federal Bureau of Investigation (FBI)\, New Jersey State Police (NJSP) and 800-GAMBLER to learn how to identify and respond to issues such as mental health challenges\, illicit drug use and human trafficking at the local level. Together\, we can build healthier\, safer communities. \nLocation: RWJ Fitness and Wellness Center Hamilton\, 3100 Quakerbridge Road\, Hamilton Township\, 08619 \nDate and time: Wed\, Apr 22\, 2026 9:00 AM – 3:00 PM \n$125 per person | Includes breakfast\, lunch\, continuing education units (CEUs) and a carton of naloxone \n$200 exhibitor option | Includes admission for one (1) person and a table in our exhibitor hall\, as well as breakfast\, lunch\, CEUs and a carton of naloxone
URL:https://www.addiction.rutgers.edu/event/global-crossroads-symposium-confronting-hidden-battles-behind-the-world-stage-uniting-against-illicit-drugs-trafficking-and-emerging-risks-in-a-connected-world/
LOCATION:RWJ Fitness and Wellness Center Hamilton\, 3100 Quakerbridge Road\, Hamilton Township\, 08619
ORGANIZER;CN="RWJBarnabas Health Institute for Prevention and Recovery":MAILTO:IFPRTrainingInstitute@rwjbh.org
END:VEVENT
END:VCALENDAR