BEGIN:VCALENDAR
VERSION:2.0
PRODID:-//Rutgers Addiction Research Center (RARC) - ECPv6.7.0//NONSGML v1.0//EN
CALSCALE:GREGORIAN
METHOD:PUBLISH
X-WR-CALNAME:Rutgers Addiction Research Center (RARC)
X-ORIGINAL-URL:https://www.addiction.rutgers.edu
X-WR-CALDESC:Events for Rutgers Addiction Research Center (RARC)
REFRESH-INTERVAL;VALUE=DURATION:PT1H
X-Robots-Tag:noindex
X-PUBLISHED-TTL:PT1H
BEGIN:VTIMEZONE
TZID:America/New_York
BEGIN:DAYLIGHT
TZOFFSETFROM:-0500
TZOFFSETTO:-0400
TZNAME:EDT
DTSTART:20260308T070000
END:DAYLIGHT
BEGIN:STANDARD
TZOFFSETFROM:-0400
TZOFFSETTO:-0500
TZNAME:EST
DTSTART:20261101T060000
END:STANDARD
END:VTIMEZONE
BEGIN:VEVENT
DTSTART;TZID=America/New_York:20260402T150000
DTEND;TZID=America/New_York:20260402T160000
DTSTAMP:20260422T071118
CREATED:20260309T173322Z
LAST-MODIFIED:20260309T173322Z
UID:10862-1775142000-1775145600@www.addiction.rutgers.edu
SUMMARY:RARC Digital Health Workgroup featuring Johannes Thrul - “Digital and mobile health approaches to develop and scale tobacco cessation and health behavior change”
DESCRIPTION:Join Zoom Meeting: https://rutgers.zoom.us/j/97730655356?pwd=Pyx7mINGcpuPMnobmc9krGWSmxIxgj.1 \nMeeting ID: 977 3065 5356\nPasscode: 197203
URL:https://www.addiction.rutgers.edu/event/rarc-digital-health-workgroup-featuring-johannes-thrul-digital-and-mobile-health-approaches-to-develop-and-scale-tobacco-cessation-and-health-behavior-change/
LOCATION:Virtual
ORGANIZER;CN="Rutgers Addiction Research Center":MAILTO:rarc@bhi.rutgers.edu
END:VEVENT
END:VCALENDAR