BEGIN:VCALENDAR
VERSION:2.0
PRODID:-//Rutgers Addiction Research Center (RARC) - ECPv6.7.0//NONSGML v1.0//EN
CALSCALE:GREGORIAN
METHOD:PUBLISH
X-WR-CALNAME:Rutgers Addiction Research Center (RARC)
X-ORIGINAL-URL:https://www.addiction.rutgers.edu
X-WR-CALDESC:Events for Rutgers Addiction Research Center (RARC)
REFRESH-INTERVAL;VALUE=DURATION:PT1H
X-Robots-Tag:noindex
X-PUBLISHED-TTL:PT1H
BEGIN:VTIMEZONE
TZID:America/New_York
BEGIN:DAYLIGHT
TZOFFSETFROM:-0500
TZOFFSETTO:-0400
TZNAME:EDT
DTSTART:20260308T070000
END:DAYLIGHT
BEGIN:STANDARD
TZOFFSETFROM:-0400
TZOFFSETTO:-0500
TZNAME:EST
DTSTART:20261101T060000
END:STANDARD
END:VTIMEZONE
BEGIN:VEVENT
DTSTART;TZID=America/New_York:20260317T110000
DTEND;TZID=America/New_York:20260317T120000
DTSTAMP:20260422T225747
CREATED:20260313T175043Z
LAST-MODIFIED:20260313T175043Z
UID:10920-1773745200-1773748800@www.addiction.rutgers.edu
SUMMARY:Rutgers Psychiatry Grand Rounds - NJMS Trainee GR- Dr. Isaac Song & Dr. Andrew Holst - "Addiction & Mental Health"
DESCRIPTION:Meeting URL: https://rutgers.zoom.us/j/97772468109?pwd=XO7GqECwMIpDqbnIgb6QIOaLdENnOg.1 \nMeeting ID: 977 7246 8109\nPassword: 926425
URL:https://www.addiction.rutgers.edu/event/rutgers-psychiatry-grand-rounds-njms-trainee-gr-dr-isaac-song-dr-andrew-holst-addiction-mental-health/
LOCATION:Virtual
END:VEVENT
END:VCALENDAR