BEGIN:VCALENDAR
VERSION:2.0
PRODID:-//Rutgers Addiction Research Center (RARC) - ECPv6.7.0//NONSGML v1.0//EN
CALSCALE:GREGORIAN
METHOD:PUBLISH
X-WR-CALNAME:Rutgers Addiction Research Center (RARC)
X-ORIGINAL-URL:https://www.addiction.rutgers.edu
X-WR-CALDESC:Events for Rutgers Addiction Research Center (RARC)
REFRESH-INTERVAL;VALUE=DURATION:PT1H
X-Robots-Tag:noindex
X-PUBLISHED-TTL:PT1H
BEGIN:VTIMEZONE
TZID:America/New_York
BEGIN:DAYLIGHT
TZOFFSETFROM:-0500
TZOFFSETTO:-0400
TZNAME:EDT
DTSTART:20260308T070000
END:DAYLIGHT
BEGIN:STANDARD
TZOFFSETFROM:-0400
TZOFFSETTO:-0500
TZNAME:EST
DTSTART:20261101T060000
END:STANDARD
END:VTIMEZONE
BEGIN:VEVENT
DTSTART;TZID=America/New_York:20260126T093000
DTEND;TZID=America/New_York:20260126T123000
DTSTAMP:20260420T193910
CREATED:20251216T184615Z
LAST-MODIFIED:20251216T184615Z
UID:10570-1769419800-1769430600@www.addiction.rutgers.edu
SUMMARY:SSW Webinar - Understanding Comorbidity in the ﻿Treatment of Eating Disorders
DESCRIPTION:This clinical webinar will focus on comorbid concerns and diagnoses related to Eating Disorders. Newer trends focusing on ADHD and autism will be discussed and how they influence disordered eating behaviors. Case studies will be used to understand the comorbidity of these diagnoses and how to work with clients on both the disordered eating and other concerns. (This is an elective for the Certificate Program in Eating Disorders) \nFor more information\, click here. \nObjectives\nParticipants will be able to label disordered eating behaviors related to other diagnoses. \nParticipants will be able to identify eating issues that are the results of non-eating disorder concerns. \nParticipants will use case study examples to discuss comorbidity related to disordered eating.
URL:https://www.addiction.rutgers.edu/event/ssw-webinar-understanding-comorbidity-in-the-treatment-of-eating-disorders-2/
LOCATION:Virtual
END:VEVENT
END:VCALENDAR