BEGIN:VCALENDAR
VERSION:2.0
PRODID:-//Rutgers Addiction Research Center (RARC) - ECPv6.7.0//NONSGML v1.0//EN
CALSCALE:GREGORIAN
METHOD:PUBLISH
X-WR-CALNAME:Rutgers Addiction Research Center (RARC)
X-ORIGINAL-URL:https://www.addiction.rutgers.edu
X-WR-CALDESC:Events for Rutgers Addiction Research Center (RARC)
REFRESH-INTERVAL;VALUE=DURATION:PT1H
X-Robots-Tag:noindex
X-PUBLISHED-TTL:PT1H
BEGIN:VTIMEZONE
TZID:America/New_York
BEGIN:DAYLIGHT
TZOFFSETFROM:-0500
TZOFFSETTO:-0400
TZNAME:EDT
DTSTART:20250309T070000
END:DAYLIGHT
BEGIN:STANDARD
TZOFFSETFROM:-0400
TZOFFSETTO:-0500
TZNAME:EST
DTSTART:20251102T060000
END:STANDARD
END:VTIMEZONE
BEGIN:VEVENT
DTSTART;TZID=America/New_York:20251113T130000
DTEND;TZID=America/New_York:20251123T140000
DTSTAMP:20260420T195145
CREATED:20251103T111513Z
LAST-MODIFIED:20251107T205709Z
UID:10405-1763038800-1763906400@www.addiction.rutgers.edu
SUMMARY:Rutgers Training in Addiction Research Program Meeting with David Eyerman\, Apellis Pharmaceuticals - "Perspectives on Biotech As a ﻿Career Path for Neuro Ph.D’s"
DESCRIPTION:In-person Location: Rutgers School of Public Health\, Room 258\nBusch Campus\, 683 Hoes Ln W\, Piscataway\, NJ 08854 \nVirtual via Zoom: https://rutgers.zoom.us/j/91416384562?pwd=415j95ChKbfcCQjyL9nGh8NcPO1aFk.1 \nMeeting ID: 914 1638 4562 \nPassword: 744994 \nJoin us for the Rutgers TARP Monthly Meeting on Thursday\, November 13\, at 1:00 PM in the RWJMS Research Building and School of Public Health (Room 258) in Piscataway and via Zoom. This month’s speaker is David Eyerman\, Head of Research at Apellis Pharmaceuticals. All TARP and RARC faculty\, trainees\, and collaborators are welcome. Food and drinks provided.
URL:https://www.addiction.rutgers.edu/event/rutgers-training-in-addiction-research-program-meeting-with-david-eyerman-apellis-pharmaceuticals/
LOCATION:Rutgers School of Public Health\, Room 258\, 683 Hoes Ln W\, Piscataway\, NJ\, 08854
ORGANIZER;CN="Rutgers Addiction Research Center":MAILTO:rarc@bhi.rutgers.edu
END:VEVENT
END:VCALENDAR