BEGIN:VCALENDAR
VERSION:2.0
PRODID:-//Rutgers Addiction Research Center (RARC) - ECPv6.7.0//NONSGML v1.0//EN
CALSCALE:GREGORIAN
METHOD:PUBLISH
X-WR-CALNAME:Rutgers Addiction Research Center (RARC)
X-ORIGINAL-URL:https://www.addiction.rutgers.edu
X-WR-CALDESC:Events for Rutgers Addiction Research Center (RARC)
REFRESH-INTERVAL;VALUE=DURATION:PT1H
X-Robots-Tag:noindex
X-PUBLISHED-TTL:PT1H
BEGIN:VTIMEZONE
TZID:America/New_York
BEGIN:DAYLIGHT
TZOFFSETFROM:-0500
TZOFFSETTO:-0400
TZNAME:EDT
DTSTART:20250309T070000
END:DAYLIGHT
BEGIN:STANDARD
TZOFFSETFROM:-0400
TZOFFSETTO:-0500
TZNAME:EST
DTSTART:20251102T060000
END:STANDARD
END:VTIMEZONE
BEGIN:VEVENT
DTSTART;TZID=America/New_York:20250916T180000
DTEND;TZID=America/New_York:20250916T190000
DTSTAMP:20260425T122036
CREATED:20250731T201643Z
LAST-MODIFIED:20250731T201643Z
UID:9923-1758045600-1758049200@www.addiction.rutgers.edu
SUMMARY:By the Book\, Book Club: September Meeting featuring The Child Code by Danielle Dick\, PhD.
DESCRIPTION:The IFPR Recovery\, Community\, Connection Business Resource Group is launching its new book club\, By the Book\, this September. The first meeting will take place on Tuesday\, September 16\, 2025\, from 6–7 p.m. on Zoom\, featuring The Child Code by Danielle Dick\, PhD. The discussion will be led by Jennifer Luyster of RWJBarnabas Health and Dr. Tara Matthews of Children’s Specialized Hospital and will explore how genetics influences child behavior and development. The club is open to the public and welcomes anyone interested in positive\, inspiring\, or informative reads. \nLearn more – Book Club Flyer \nRegister to attend\, click here.
URL:https://www.addiction.rutgers.edu/event/by-the-book-book-club-september-meeting-featuring-the-child-code-by-danielle-dick-phd/
LOCATION:Virtual
END:VEVENT
END:VCALENDAR