BEGIN:VCALENDAR
VERSION:2.0
PRODID:-//Rutgers Addiction Research Center (RARC) - ECPv6.7.0//NONSGML v1.0//EN
CALSCALE:GREGORIAN
METHOD:PUBLISH
X-WR-CALNAME:Rutgers Addiction Research Center (RARC)
X-ORIGINAL-URL:https://www.addiction.rutgers.edu
X-WR-CALDESC:Events for Rutgers Addiction Research Center (RARC)
REFRESH-INTERVAL;VALUE=DURATION:PT1H
X-Robots-Tag:noindex
X-PUBLISHED-TTL:PT1H
BEGIN:VTIMEZONE
TZID:America/New_York
BEGIN:DAYLIGHT
TZOFFSETFROM:-0500
TZOFFSETTO:-0400
TZNAME:EDT
DTSTART:20250309T070000
END:DAYLIGHT
BEGIN:STANDARD
TZOFFSETFROM:-0400
TZOFFSETTO:-0500
TZNAME:EST
DTSTART:20251102T060000
END:STANDARD
END:VTIMEZONE
BEGIN:VEVENT
DTSTART;TZID=America/New_York:20250827T100000
DTEND;TZID=America/New_York:20250827T103000
DTSTAMP:20260423T141522
CREATED:20250808T140839Z
LAST-MODIFIED:20250808T140839Z
UID:9955-1756288800-1756290600@www.addiction.rutgers.edu
SUMMARY:NeC-ROTAC Webinar: Practical Strategies to Expand the Rural Behavioral Health Workforce
DESCRIPTION:Expanding the rural behavioral health workforce requires a multifaceted approach that addresses recruitment\, retention\, and accessibility challenges. This webinar will explore how communities can implement targeted strategies such as partnering with universities to create rural-focused training programs\, offering financial incentives to attract professionals\, and leveraging telehealth to extend services and supervision to remote areas. \nTrainer: Humberto Carvalho\, MPH\nFor more details and registration\, click here.
URL:https://www.addiction.rutgers.edu/event/nec-rotac-webinar-practical-strategies-to-expand-the-rural-behavioral-health-workforce/
LOCATION:Virtual
END:VEVENT
END:VCALENDAR