BEGIN:VCALENDAR
VERSION:2.0
PRODID:-//Rutgers Addiction Research Center (RARC) - ECPv6.7.0//NONSGML v1.0//EN
CALSCALE:GREGORIAN
METHOD:PUBLISH
X-WR-CALNAME:Rutgers Addiction Research Center (RARC)
X-ORIGINAL-URL:https://www.addiction.rutgers.edu
X-WR-CALDESC:Events for Rutgers Addiction Research Center (RARC)
REFRESH-INTERVAL;VALUE=DURATION:PT1H
X-Robots-Tag:noindex
X-PUBLISHED-TTL:PT1H
BEGIN:VTIMEZONE
TZID:America/New_York
BEGIN:DAYLIGHT
TZOFFSETFROM:-0500
TZOFFSETTO:-0400
TZNAME:EDT
DTSTART:20250309T070000
END:DAYLIGHT
BEGIN:STANDARD
TZOFFSETFROM:-0400
TZOFFSETTO:-0500
TZNAME:EST
DTSTART:20251102T060000
END:STANDARD
END:VTIMEZONE
BEGIN:VEVENT
DTSTART;TZID=America/New_York:20250621T090000
DTEND;TZID=America/New_York:20250625T170000
DTSTAMP:20260420T011832
CREATED:20250522T175631Z
LAST-MODIFIED:20250522T175631Z
UID:9702-1750496400-1750870800@www.addiction.rutgers.edu
SUMMARY:48th Annual RSA Scientific Meeting/ISBRA Congress
DESCRIPTION:The primary goal of the Annual Scientific Meeting (“Meeting”) is to provide a forum for alcohol researchers – from all disciplines – to present their latest findings and to learn about new research developments in an environment that will provide interaction at both the professional and personal level. \nThe Meeting begins with an Opening Reception (meet and greet style) on Saturday evening and ends with the Closing Ceremony (sit-down dinner with presentations) on Wednesday evening. The Sunday through Wednesday program includes plenary lectures\, symposia\, workshops\, roundtable discussions\, Enoch Gordis Award and Doctoral Student Small Grants paper sessions and poster sessions. \nThe Program Committee is made up of RSA members who represent a wide range of scientific specialties.  Their goal is to develop a well-balanced program that adequately reflects the broad range of interests of the RSA membership and non-member alcohol researchers.  It is important to note that topics covered and the balance achieved in the overall meeting program primarily rests upon proposals submitted. \nFor more information \, click here.
URL:https://www.addiction.rutgers.edu/event/48th-annual-rsa-scientific-meeting-isbra-congress/
LOCATION:Hyatt Regency\, New Orleans
END:VEVENT
BEGIN:VEVENT
DTSTART;TZID=America/New_York:20250623T180000
DTEND;TZID=America/New_York:20250623T200000
DTSTAMP:20260420T011832
CREATED:20250529T152758Z
LAST-MODIFIED:20250529T152758Z
UID:9711-1750701600-1750708800@www.addiction.rutgers.edu
SUMMARY:RARC Meet-Up at the Research Society on Alcohol (RSA) Scientific Meeting
DESCRIPTION:
URL:https://www.addiction.rutgers.edu/event/rarc-meet-up-at-the-research-society-on-alcohol-rsa-scientific-meeting/
LOCATION:Hyatt Regency\, New Orleans
ORGANIZER;CN="Rutgers Addiction Research Center":MAILTO:rarc@bhi.rutgers.edu
END:VEVENT
END:VCALENDAR