BEGIN:VCALENDAR
VERSION:2.0
PRODID:-//Rutgers Addiction Research Center (RARC) - ECPv6.7.0//NONSGML v1.0//EN
CALSCALE:GREGORIAN
METHOD:PUBLISH
X-WR-CALNAME:Rutgers Addiction Research Center (RARC)
X-ORIGINAL-URL:https://www.addiction.rutgers.edu
X-WR-CALDESC:Events for Rutgers Addiction Research Center (RARC)
REFRESH-INTERVAL;VALUE=DURATION:PT1H
X-Robots-Tag:noindex
X-PUBLISHED-TTL:PT1H
BEGIN:VTIMEZONE
TZID:America/New_York
BEGIN:DAYLIGHT
TZOFFSETFROM:-0500
TZOFFSETTO:-0400
TZNAME:EDT
DTSTART:20250309T070000
END:DAYLIGHT
BEGIN:STANDARD
TZOFFSETFROM:-0400
TZOFFSETTO:-0500
TZNAME:EST
DTSTART:20251102T060000
END:STANDARD
END:VTIMEZONE
BEGIN:VEVENT
DTSTART;TZID=America/New_York:20250612T080000
DTEND;TZID=America/New_York:20250613T160000
DTSTAMP:20260419T235758
CREATED:20250102T174107Z
LAST-MODIFIED:20250102T175742Z
UID:8826-1749715200-1749830400@www.addiction.rutgers.edu
SUMMARY:NJPN Annual Conference - Celebrating 25 Years
DESCRIPTION:The NJPN Annual Conference has carried on its tradition of providing professionals with cutting edge research and best practices in substance use prevention\, clinical treatment\, and peer recovery support since 2000. The NJPN Annual Conference is the largest statewide gathering of New Jersey professionals in the field of addiction and will return to the Atlantic City Convention Center in Atlantic City\, NJ! \nFor more information and registration: click here!
URL:https://www.addiction.rutgers.edu/event/njpn-annual-conference-celebrating-25-years/
LOCATION:Alantic City Convention Center
END:VEVENT
END:VCALENDAR