BEGIN:VCALENDAR
VERSION:2.0
PRODID:-//Rutgers Addiction Research Center (RARC) - ECPv6.7.0//NONSGML v1.0//EN
CALSCALE:GREGORIAN
METHOD:PUBLISH
X-WR-CALNAME:Rutgers Addiction Research Center (RARC)
X-ORIGINAL-URL:https://www.addiction.rutgers.edu
X-WR-CALDESC:Events for Rutgers Addiction Research Center (RARC)
REFRESH-INTERVAL;VALUE=DURATION:PT1H
X-Robots-Tag:noindex
X-PUBLISHED-TTL:PT1H
BEGIN:VTIMEZONE
TZID:America/New_York
BEGIN:DAYLIGHT
TZOFFSETFROM:-0500
TZOFFSETTO:-0400
TZNAME:EDT
DTSTART:20250309T070000
END:DAYLIGHT
BEGIN:STANDARD
TZOFFSETFROM:-0400
TZOFFSETTO:-0500
TZNAME:EST
DTSTART:20251102T060000
END:STANDARD
END:VTIMEZONE
BEGIN:VEVENT
DTSTART;TZID=America/New_York:20250602T130000
DTEND;TZID=America/New_York:20250602T140000
DTSTAMP:20260421T201541
CREATED:20250520T152621Z
LAST-MODIFIED:20250520T152621Z
UID:9697-1748869200-1748872800@www.addiction.rutgers.edu
SUMMARY:NJ ACTS Webinar - Recruiting for Genetic Studies: What Study Teams Need to Know
DESCRIPTION:Presented by: Gary Heiman\, Ph.D. Professor Vice Chair and Undergraduate Director Department of Genetics Rutgers University\nJessica Salvatore\, Ph.D. Associate Professor Department of Psychiatry Director of the Genes\, Environments\, and Neurodevelopment in Addictions Program Rutgers University \nTo register\, click here.
URL:https://www.addiction.rutgers.edu/event/nj-acts-webinar-recruiting-for-genetic-studies-what-study-teams-need-to-know/
LOCATION:Virtual
END:VEVENT
END:VCALENDAR