BEGIN:VCALENDAR
VERSION:2.0
PRODID:-//Rutgers Addiction Research Center (RARC) - ECPv6.7.0//NONSGML v1.0//EN
CALSCALE:GREGORIAN
METHOD:PUBLISH
X-WR-CALNAME:Rutgers Addiction Research Center (RARC)
X-ORIGINAL-URL:https://www.addiction.rutgers.edu
X-WR-CALDESC:Events for Rutgers Addiction Research Center (RARC)
REFRESH-INTERVAL;VALUE=DURATION:PT1H
X-Robots-Tag:noindex
X-PUBLISHED-TTL:PT1H
BEGIN:VTIMEZONE
TZID:America/New_York
BEGIN:DAYLIGHT
TZOFFSETFROM:-0500
TZOFFSETTO:-0400
TZNAME:EDT
DTSTART:20250309T070000
END:DAYLIGHT
BEGIN:STANDARD
TZOFFSETFROM:-0400
TZOFFSETTO:-0500
TZNAME:EST
DTSTART:20251102T060000
END:STANDARD
END:VTIMEZONE
BEGIN:VEVENT
DTSTART;TZID=America/New_York:20250506T100000
DTEND;TZID=America/New_York:20250506T130000
DTSTAMP:20260420T002725
CREATED:20250415T162520Z
LAST-MODIFIED:20250415T162520Z
UID:9599-1746525600-1746536400@www.addiction.rutgers.edu
SUMMARY:SSW Webinar - Addiction and Recovery: Where We Have Been\, Where We Are Going
DESCRIPTION:This course examines how the field of addiction treatment and recovery has evolved since the development of 12-step recovery spaces in the 1950’s\, from societal conceptualizations about addiction to how treatment and evidence-based practices have shaped what we now call clinical addiction treatment. Particular attention will be paid to how paradigms\, stigma\, and oppressive systems have influenced and shaped addiction and treatment trends. Participants will critically examine the successes and pitfalls of addiction treatment as it stands today\, including specific models and systems of recovery and what the field calls “evidence-based practices”. Special attention will be paid to how the fields of neuroscience\, epigenetics\, and neuropharmacology have informed what we know today about addiction\, and what it means for integrative recovery strategies moving forward. \n\n\n\nInstructor: \nKat Glick\, M.Ed\, LPC\, ACS\, MAC\, CSE\, CIMHP\n\n\nDate: \nTuesday\, May 6\, 2025\n\n\nTime: \n10:00 am – 1:00 pm ET\n\n\nLocation: \nLive Interactive Online Webinar
URL:https://www.addiction.rutgers.edu/event/ssw-webinar-addiction-and-recovery-where-we-have-been-where-we-are-going-2/
LOCATION:Virtual
END:VEVENT
END:VCALENDAR