BEGIN:VCALENDAR
VERSION:2.0
PRODID:-//Rutgers Addiction Research Center (RARC) - ECPv6.7.0//NONSGML v1.0//EN
CALSCALE:GREGORIAN
METHOD:PUBLISH
X-WR-CALNAME:Rutgers Addiction Research Center (RARC)
X-ORIGINAL-URL:https://www.addiction.rutgers.edu
X-WR-CALDESC:Events for Rutgers Addiction Research Center (RARC)
REFRESH-INTERVAL;VALUE=DURATION:PT1H
X-Robots-Tag:noindex
X-PUBLISHED-TTL:PT1H
BEGIN:VTIMEZONE
TZID:America/New_York
BEGIN:DAYLIGHT
TZOFFSETFROM:-0500
TZOFFSETTO:-0400
TZNAME:EDT
DTSTART:20250309T070000
END:DAYLIGHT
BEGIN:STANDARD
TZOFFSETFROM:-0400
TZOFFSETTO:-0500
TZNAME:EST
DTSTART:20251102T060000
END:STANDARD
END:VTIMEZONE
BEGIN:VEVENT
DTSTART;TZID=America/New_York:20250421T090000
DTEND;TZID=America/New_York:20250424T170000
DTSTAMP:20260423T104303
CREATED:20240911T175425Z
LAST-MODIFIED:20240911T175425Z
UID:8160-1745226000-1745514000@www.addiction.rutgers.edu
SUMMARY:Rx and Illicit Drug Summit
DESCRIPTION:Explore What’s Working in Prevention\, Deflection\, Treatment\, and Recovery\nMore than one million lives have been lost since the start of the opioid epidemic. Overdoses and deaths involving synthetic opioids have reached record rates\, and every community across our nation is feeling the impact. \nRx and Illicit Drug Summit is the largest\, most influential event addressing this crisis\, where strategies are shared and put into action. Our global community includes multidisciplinary stakeholders “from federal to family.” As we enter our 14th year\, our mission has become increasingly important—we can’t afford to lose more lives. It’s time to turn the numbers around. \nFor more information and registration\, click here.
URL:https://www.addiction.rutgers.edu/event/rx-and-illicit-drug-summit/
LOCATION:Gaylord Opryland Resort & Convention Center\, Nashville\, TN
END:VEVENT
BEGIN:VEVENT
DTSTART;TZID=America/New_York:20250422T110000
DTEND;TZID=America/New_York:20250422T120000
DTSTAMP:20260423T104303
CREATED:20250418T135116Z
LAST-MODIFIED:20250418T135116Z
UID:9611-1745319600-1745323200@www.addiction.rutgers.edu
SUMMARY:Rutgers Psychiatry Grand Rounds - NJMS Addiction Medicine Fellow - Dr. Benjamin Simmons\, "Ketamine\, Substance Use Disorder and Withdrawal"
DESCRIPTION:Zoom meeting: https://rutgers.zoom.us/j/96856675957?pwd=IJbP9ufV9wvxPzCT4NFMazYimfZah5.1
URL:https://www.addiction.rutgers.edu/event/rutgers-psychiatry-grand-rounds-njms-addiction-medicine-fellow-dr-benjamin-simmons-ketamine-substance-use-disorder-and-withdrawal/
LOCATION:Virtual
END:VEVENT
END:VCALENDAR