BEGIN:VCALENDAR
VERSION:2.0
PRODID:-//Rutgers Addiction Research Center (RARC) - ECPv6.7.0//NONSGML v1.0//EN
CALSCALE:GREGORIAN
METHOD:PUBLISH
X-WR-CALNAME:Rutgers Addiction Research Center (RARC)
X-ORIGINAL-URL:https://www.addiction.rutgers.edu
X-WR-CALDESC:Events for Rutgers Addiction Research Center (RARC)
REFRESH-INTERVAL;VALUE=DURATION:PT1H
X-Robots-Tag:noindex
X-PUBLISHED-TTL:PT1H
BEGIN:VTIMEZONE
TZID:America/New_York
BEGIN:DAYLIGHT
TZOFFSETFROM:-0500
TZOFFSETTO:-0400
TZNAME:EDT
DTSTART:20250309T070000
END:DAYLIGHT
BEGIN:STANDARD
TZOFFSETFROM:-0400
TZOFFSETTO:-0500
TZNAME:EST
DTSTART:20251102T060000
END:STANDARD
END:VTIMEZONE
BEGIN:VEVENT
DTSTART;TZID=America/New_York:20250328T080000
DTEND;TZID=America/New_York:20250328T150000
DTSTAMP:20260423T073100
CREATED:20241206T134013Z
LAST-MODIFIED:20250131T154528Z
UID:8735-1743148800-1743174000@www.addiction.rutgers.edu
SUMMARY:Urban Mental Health Conference - Innovative Approaches & Emerging Therapies
DESCRIPTION:Registration: https://njms.rutgers.edu/departments/psychiatry/umh.php \nThis conference will explore innovative approaches and emerging therapies to address the challenges posed by substance use. The conference will provide an interdisciplinary platform for healthcare professionals\, researchers\, policy makers\, and educators to share knowledge\, discuss practical applications\, and collaborate on solutions to combat addiction and its related harms.
URL:https://www.addiction.rutgers.edu/event/urban-mental-health-conference-innovative-approaches-emerging-therapies-in-alcohol-opioids-social-media-stimulants-tobacco-vaping-cannabis/
END:VEVENT
END:VCALENDAR