BEGIN:VCALENDAR
VERSION:2.0
PRODID:-//Rutgers Addiction Research Center (RARC) - ECPv6.7.0//NONSGML v1.0//EN
CALSCALE:GREGORIAN
METHOD:PUBLISH
X-WR-CALNAME:Rutgers Addiction Research Center (RARC)
X-ORIGINAL-URL:https://www.addiction.rutgers.edu
X-WR-CALDESC:Events for Rutgers Addiction Research Center (RARC)
REFRESH-INTERVAL;VALUE=DURATION:PT1H
X-Robots-Tag:noindex
X-PUBLISHED-TTL:PT1H
BEGIN:VTIMEZONE
TZID:America/New_York
BEGIN:DAYLIGHT
TZOFFSETFROM:-0500
TZOFFSETTO:-0400
TZNAME:EDT
DTSTART:20250309T070000
END:DAYLIGHT
BEGIN:STANDARD
TZOFFSETFROM:-0400
TZOFFSETTO:-0500
TZNAME:EST
DTSTART:20251102T060000
END:STANDARD
END:VTIMEZONE
BEGIN:VEVENT
DTSTART;TZID=America/New_York:20250305T093000
DTEND;TZID=America/New_York:20250305T153000
DTSTAMP:20260420T161939
CREATED:20250124T155830Z
LAST-MODIFIED:20250124T155830Z
UID:8981-1741167000-1741188600@www.addiction.rutgers.edu
SUMMARY:BHI PAWG Trainee Winter Retreat
DESCRIPTION:BHI’s Postdoctoral Alliance Working Group (PAWG) is proud to present the first BHI Trainee Retreat! The program consists of a grant writing workshop with tip/tricks\, grant writing Panel with Study Section Experts\, transition to the next steps in academia & industry\, and “How to Manage in the lab” workshop. The lineup of speakers features experts from industry\, academia\, and even the business department. \n \n\n\n\nEvent Details \n\nDate: Wednesday\, March 5\, 2025\nTime: 9:30 AM – 3:30 PM\nLocation: Busch Student Center\, Room 120\, 604 Bartholomew Rd\, Piscataway\, NJ 08854\n\nThis retreat will feature speakers from academia\, industry\, and even the business department\, offering valuable insights into various aspects of career and professional development. \nPlease RSVP by February 12 via this link. \n\n\n\nReserving your spot ensures your food preferences are accommodated\, though walk-ins will be welcomed on the day as space allows.
URL:https://www.addiction.rutgers.edu/event/bhi-pawg-trainee-winter-retreat/
LOCATION:Busch Student Center\, 604 Bartholomew Rd\, Piscataway\, NJ\, 08854
END:VEVENT
END:VCALENDAR