BEGIN:VCALENDAR
VERSION:2.0
PRODID:-//Rutgers Addiction Research Center (RARC) - ECPv6.7.0//NONSGML v1.0//EN
CALSCALE:GREGORIAN
METHOD:PUBLISH
X-WR-CALNAME:Rutgers Addiction Research Center (RARC)
X-ORIGINAL-URL:https://www.addiction.rutgers.edu
X-WR-CALDESC:Events for Rutgers Addiction Research Center (RARC)
REFRESH-INTERVAL;VALUE=DURATION:PT1H
X-Robots-Tag:noindex
X-PUBLISHED-TTL:PT1H
BEGIN:VTIMEZONE
TZID:America/New_York
BEGIN:DAYLIGHT
TZOFFSETFROM:-0500
TZOFFSETTO:-0400
TZNAME:EDT
DTSTART:20250309T070000
END:DAYLIGHT
BEGIN:STANDARD
TZOFFSETFROM:-0400
TZOFFSETTO:-0500
TZNAME:EST
DTSTART:20251102T060000
END:STANDARD
END:VTIMEZONE
BEGIN:VEVENT
DTSTART;TZID=America/New_York:20250227T090000
DTEND;TZID=America/New_York:20250228T160000
DTSTAMP:20260420T204956
CREATED:20250103T200103Z
LAST-MODIFIED:20250103T200103Z
UID:8829-1740646800-1740758400@www.addiction.rutgers.edu
SUMMARY:2025 Texas Substance Use Symposium (TxSUS) - Science Matters
DESCRIPTION:The Texas Substance Use Symposium (TxSUS) is an interdisciplinary\, no-cost conference offered both in-person and virtually dedicated to reducing the impact of substance use in Texas. Over 900 professionals from healthcare\, behavioral health\, recovery\, and public safety sectors gather to tackle local challenges and find solutions. Featuring national experts\, interactive sessions\, research presentations\, and networking opportunities\, TxSUS equips attendees with the tools and knowledge needed to drive real change. . \nThis event provides a unique opportunity to earn complimentary continuing education credits while exploring a wide range of educational sessions\, focused on treatment and recovery from clinical\, research\, policy\, and community perspectives. \nDon’t miss out on this dynamic event—registration is open\, and spaces are filling quickly. Secure your spot today! Click here to register.
URL:https://www.addiction.rutgers.edu/event/2025-texas-substance-use-symposium-txsus-science-matters/
END:VEVENT
END:VCALENDAR