BEGIN:VCALENDAR
VERSION:2.0
PRODID:-//Rutgers Addiction Research Center (RARC) - ECPv6.7.0//NONSGML v1.0//EN
CALSCALE:GREGORIAN
METHOD:PUBLISH
X-WR-CALNAME:Rutgers Addiction Research Center (RARC)
X-ORIGINAL-URL:https://www.addiction.rutgers.edu
X-WR-CALDESC:Events for Rutgers Addiction Research Center (RARC)
REFRESH-INTERVAL;VALUE=DURATION:PT1H
X-Robots-Tag:noindex
X-PUBLISHED-TTL:PT1H
BEGIN:VTIMEZONE
TZID:America/New_York
BEGIN:DAYLIGHT
TZOFFSETFROM:-0500
TZOFFSETTO:-0400
TZNAME:EDT
DTSTART:20250309T070000
END:DAYLIGHT
BEGIN:STANDARD
TZOFFSETFROM:-0400
TZOFFSETTO:-0500
TZNAME:EST
DTSTART:20251102T060000
END:STANDARD
END:VTIMEZONE
BEGIN:VEVENT
DTSTART;TZID=America/New_York:20250110T093000
DTEND;TZID=America/New_York:20250110T123000
DTSTAMP:20260420T004303
CREATED:20241219T184717Z
LAST-MODIFIED:20241219T184742Z
UID:8803-1736501400-1736512200@www.addiction.rutgers.edu
SUMMARY:SSW Webinar - Current Drug Trends and Emerging Drugs of Abuse
DESCRIPTION:Many new drugs are making local and national headlines such as K2/Spice and Bath Salts. This interactive webinar will discuss the latest developments and information regarding synthetic cannabinoids\, MDPV\, Mephedrone\, Kratom\, Salvia and other designer drugs that have been emerging over the past few years. Webinar participants will be introduced to the physiology of these drugs and how they can possibly impact\, mimic and exacerbate mental health disorders such as anxiety and depressive disorders. Epidemiologic trends in drug abuse in both youth and adults will be discussed as will the latest trends from the New Jersey Division of Addiction Services. Webinar participants will participate in interactive discussions and exercises in differential diagnosis of similar symptoms produced by these emerging drugs of abuse and other mental health disorders. Patterns of use\, abilities for urine detection\, and other legal aspect regarding these emerging drugs will be discussed. [This webinar will complete your prescription opioid social work license requirement.] \n\n\n\nInstructor: \nGlenn Duncan\, LPC\, LCADC\, CCS\, ACS\n\n\nDate: \nFriday\, January 10\, 2025\n\n\nTime: \n9:30 am – 12:30 pm ET\n\n\nLocation: \nLive Interactive Online Webinar
URL:https://www.addiction.rutgers.edu/event/ssw-webinar-current-drug-trends-and-emerging-drugs-of-abuse/
LOCATION:Virtual
END:VEVENT
END:VCALENDAR