BEGIN:VCALENDAR
VERSION:2.0
PRODID:-//Rutgers Addiction Research Center (RARC) - ECPv6.7.0//NONSGML v1.0//EN
CALSCALE:GREGORIAN
METHOD:PUBLISH
X-WR-CALNAME:Rutgers Addiction Research Center (RARC)
X-ORIGINAL-URL:https://www.addiction.rutgers.edu
X-WR-CALDESC:Events for Rutgers Addiction Research Center (RARC)
REFRESH-INTERVAL;VALUE=DURATION:PT1H
X-Robots-Tag:noindex
X-PUBLISHED-TTL:PT1H
BEGIN:VTIMEZONE
TZID:America/New_York
BEGIN:DAYLIGHT
TZOFFSETFROM:-0500
TZOFFSETTO:-0400
TZNAME:EDT
DTSTART:20250309T070000
END:DAYLIGHT
BEGIN:STANDARD
TZOFFSETFROM:-0400
TZOFFSETTO:-0500
TZNAME:EST
DTSTART:20251102T060000
END:STANDARD
END:VTIMEZONE
BEGIN:VEVENT
DTSTART;TZID=America/New_York:20250108T093000
DTEND;TZID=America/New_York:20250108T123000
DTSTAMP:20260419T125035
CREATED:20241219T184316Z
LAST-MODIFIED:20241219T184316Z
UID:8799-1736328600-1736339400@www.addiction.rutgers.edu
SUMMARY:SSW Webinar - Opioids: How Do They Work and How Do We Help?
DESCRIPTION:Opioid use has increased dramatically in the United States and across the globe. It is an issue for entire communities\, not just for those professionals working in addiction medicine. This webinar will look at how opioids affect the human nervous system as well as the human body. Specific pharmacologic interventions\, especially methadone and buprenorphine\, will be discussed in opioid addiction. Finally\, the use of Narcan for opioid overdose will be discussed. [This webinar will complete your prescription opioid social work license requirement.] \n\n\n\nInstructor: \nCraig Strickland\, PhD\n\n\nDate: \nWednesday\, January 8\, 2025\n\n\nTime: \n9:30 am – 12:30 pm ET\n\n\nLocation: \nLive Interactive Online Webinar
URL:https://www.addiction.rutgers.edu/event/ssw-webinar-opioids-how-do-they-work-and-how-do-we-help-2/
LOCATION:Virtual
END:VEVENT
BEGIN:VEVENT
DTSTART;TZID=America/New_York:20250108T100000
DTEND;TZID=America/New_York:20250108T130000
DTSTAMP:20260419T125035
CREATED:20241219T184509Z
LAST-MODIFIED:20241219T184509Z
UID:8801-1736330400-1736341200@www.addiction.rutgers.edu
SUMMARY:SSW Webinar -  Addiction and Recovery: Where We Have Been\, Where We Are Going
DESCRIPTION:This course examines how the field of addiction treatment and recovery has evolved since the development of 12-step recovery spaces in the 1950’s\, from societal conceptualizations about addiction to how treatment and evidence-based practices have shaped what we now call clinical addiction treatment. Particular attention will be paid to how paradigms\, stigma\, and oppressive systems have influenced and shaped addiction and treatment trends. Participants will critically examine the successes and pitfalls of addiction treatment as it stands today\, including specific models and systems of recovery and what the field calls “evidence-based practices”. Special attention will be paid to how the fields of neuroscience\, epigenetics\, and neuropharmacology have informed what we know today about addiction\, and what it means for integrative recovery strategies moving forward. \n\n\n\nInstructor: \nKat Glick\, M.Ed\, LPC\, ACS\, MAC\, CSE\, CIMHP\n\n\nDate: \nWednesday\, January 8\, 2025\n\n\nTime: \n10:00 am – 1:00 pm ET\n\n\nLocation: \nLive Interactive Online Webinar
URL:https://www.addiction.rutgers.edu/event/ssw-webinar-addiction-and-recovery-where-we-have-been-where-we-are-going/
LOCATION:Virtual
END:VEVENT
END:VCALENDAR