BEGIN:VCALENDAR
VERSION:2.0
PRODID:-//Rutgers Addiction Research Center (RARC) - ECPv6.7.0//NONSGML v1.0//EN
CALSCALE:GREGORIAN
METHOD:PUBLISH
X-WR-CALNAME:Rutgers Addiction Research Center (RARC)
X-ORIGINAL-URL:https://www.addiction.rutgers.edu
X-WR-CALDESC:Events for Rutgers Addiction Research Center (RARC)
REFRESH-INTERVAL;VALUE=DURATION:PT1H
X-Robots-Tag:noindex
X-PUBLISHED-TTL:PT1H
BEGIN:VTIMEZONE
TZID:America/New_York
BEGIN:DAYLIGHT
TZOFFSETFROM:-0500
TZOFFSETTO:-0400
TZNAME:EDT
DTSTART:20240310T070000
END:DAYLIGHT
BEGIN:STANDARD
TZOFFSETFROM:-0400
TZOFFSETTO:-0500
TZNAME:EST
DTSTART:20241103T060000
END:STANDARD
END:VTIMEZONE
BEGIN:VEVENT
DTSTART;TZID=America/New_York:20241219T120000
DTEND;TZID=America/New_York:20241219T130000
DTSTAMP:20260420T214632
CREATED:20241206T132029Z
LAST-MODIFIED:20241206T132029Z
UID:8725-1734609600-1734613200@www.addiction.rutgers.edu
SUMMARY:Resources for Researchers through the CTSA Trial Innovation Network
DESCRIPTION:Resources through the CTSA Trial Innovation Network (TIN) are available to Rutgers clinical researchers through NJ ACTS\, our Clinical and Translational Science award (CTSA).  Daniel Ford\, MD\, MPH from Johns Hopkins University and Dixie Thompson\, BSN\, RN from the University of Utah will be joining us to discuss resources for conducting multi-center trials through the TIN as well other resources for study teams.  This session will be particularly valuable for any Rutgers investigator who is contemplating conducting a multi-center trial with Rutgers as the coordinating site but will also be helpful for any investigator or study team member. \nRegistration: CLICK HERE
URL:https://www.addiction.rutgers.edu/event/resources-for-researchers-through-the-ctsa-trial-innovation-network/
LOCATION:Virtual
END:VEVENT
END:VCALENDAR