BEGIN:VCALENDAR
VERSION:2.0
PRODID:-//Rutgers Addiction Research Center (RARC) - ECPv6.7.0//NONSGML v1.0//EN
CALSCALE:GREGORIAN
METHOD:PUBLISH
X-WR-CALNAME:Rutgers Addiction Research Center (RARC)
X-ORIGINAL-URL:https://www.addiction.rutgers.edu
X-WR-CALDESC:Events for Rutgers Addiction Research Center (RARC)
REFRESH-INTERVAL;VALUE=DURATION:PT1H
X-Robots-Tag:noindex
X-PUBLISHED-TTL:PT1H
BEGIN:VTIMEZONE
TZID:America/New_York
BEGIN:DAYLIGHT
TZOFFSETFROM:-0500
TZOFFSETTO:-0400
TZNAME:EDT
DTSTART:20240310T070000
END:DAYLIGHT
BEGIN:STANDARD
TZOFFSETFROM:-0400
TZOFFSETTO:-0500
TZNAME:EST
DTSTART:20241103T060000
END:STANDARD
END:VTIMEZONE
BEGIN:VEVENT
DTSTART;TZID=America/New_York:20241022T090000
DTEND;TZID=America/New_York:20241023T170000
DTSTAMP:20260421T001000
CREATED:20240711T164413Z
LAST-MODIFIED:20240711T190355Z
UID:7627-1729587600-1729702800@www.addiction.rutgers.edu
SUMMARY:Patient-Centered Outcomes Research Institute (PCORI) 2024 Annual Meeting
DESCRIPTION:Embark on a transformative journey this October with PCORI and hundreds of professionals from around the country at one of the most engaging events in healthcare — the 2024 PCORI Annual Meeting! \nEngage with a diverse community of thought leaders — from patients and caregivers to researchers — and other healthcare visionaries\, explore innovative strategies for engaging diverse communities and hear about the latest in PCORI-funded comparative clinical effectiveness research (CER). Immerse yourself in a vibrant network of healthcare community members as you gain valuable insights on such topics as maternal morbidity and mortality\, artificial intelligence\, care delivery and more. Join us on-site in our nation’s capital for two enriching days where together\, we will explore ways CER can enable a more patient-centered system of health. Registration is free. \nThis year’s program features sessions on the latest CER and important findings on a range of topics\, including: \n\nLeveraging data in health care.\nPatient-centered artificial intelligence innovations.\nPatient engagement in research.\nWomen’s health.\nAnd much more!\n\nFor more information and registration\, click here.
URL:https://www.addiction.rutgers.edu/event/patient-centered-outcomes-research-institute-pcori-2024-annual-meeting/
LOCATION:Washington\, D.C.
END:VEVENT
END:VCALENDAR