BEGIN:VCALENDAR
VERSION:2.0
PRODID:-//Rutgers Addiction Research Center (RARC) - ECPv6.7.0//NONSGML v1.0//EN
CALSCALE:GREGORIAN
METHOD:PUBLISH
X-ORIGINAL-URL:https://www.addiction.rutgers.edu
X-WR-CALDESC:Events for Rutgers Addiction Research Center (RARC)
REFRESH-INTERVAL;VALUE=DURATION:PT1H
X-Robots-Tag:noindex
X-PUBLISHED-TTL:PT1H
BEGIN:VTIMEZONE
TZID:America/New_York
BEGIN:DAYLIGHT
TZOFFSETFROM:-0500
TZOFFSETTO:-0400
TZNAME:EDT
DTSTART:20240310T070000
END:DAYLIGHT
BEGIN:STANDARD
TZOFFSETFROM:-0400
TZOFFSETTO:-0500
TZNAME:EST
DTSTART:20241103T060000
END:STANDARD
END:VTIMEZONE
BEGIN:VEVENT
DTSTART;TZID=America/New_York:20240930T120000
DTEND;TZID=America/New_York:20240930T140000
DTSTAMP:20260424T082305
CREATED:20240816T144351Z
LAST-MODIFIED:20240816T144442Z
UID:7801-1727697600-1727704800@www.addiction.rutgers.edu
SUMMARY:Rutgers Faculty Workshop in Mentoring Biomedical Grad Students and Postdocs
DESCRIPTION:The NIH is requiring faculty to be trained in how to mentor PhD students and postdocs. We are therefore offering these workshops for faculty in the biological sciences with new case studies each time. This will make our programs more competitive for training grants and individual trainee fellowships.  All faculty are invited and junior faculty are strongly encouraged to attend. \n12pm – 2pm (Lunch will be served) \nIN PERSON ONLY: RWJMS Research Tower\, Deans Conference Room 123\, 675 Hoes Lane West\, Piscataway \nRSVP: https://rutgers.ca1.qualtrics.com/jfe/form/SV_2c6S4MsGObwzrVA \nTopics and interactive case studies will include: \n\nRationale for mentoring the mentors\nPrinciples in mentoring relationships\nAcademic resources offered in biomedical sciences at Rutgers \nManaging trainee projects (e.g. responsibilities of mentor and mentee\, expectations for graduation)\nFunding for trainees (e.g. internal and external sources)\nProfessional development for trainees (e.g. Individual Developmental Plans\, career advising)\nTrainee issues (e.g. identifying mental health issues\, avoiding bias\, and improving communication)\n\n  \nFor questions\, please contact Janet Alder\, PhD janet.alder@rutgers.edu \n 
URL:https://www.addiction.rutgers.edu/event/rutgers-faculty-workshop-in-mentoring-biomedical-grad-students-and-postdocs/
LOCATION:Dean’s Conference Room\, Research Tower\, Busch Campus\, 675 Hoes Lane\, West Piscataway\, 08854
END:VEVENT
END:VCALENDAR