BEGIN:VCALENDAR
VERSION:2.0
PRODID:-//Rutgers Addiction Research Center (RARC) - ECPv6.7.0//NONSGML v1.0//EN
CALSCALE:GREGORIAN
METHOD:PUBLISH
X-WR-CALNAME:Rutgers Addiction Research Center (RARC)
X-ORIGINAL-URL:https://www.addiction.rutgers.edu
X-WR-CALDESC:Events for Rutgers Addiction Research Center (RARC)
REFRESH-INTERVAL;VALUE=DURATION:PT1H
X-Robots-Tag:noindex
X-PUBLISHED-TTL:PT1H
BEGIN:VTIMEZONE
TZID:America/New_York
BEGIN:DAYLIGHT
TZOFFSETFROM:-0500
TZOFFSETTO:-0400
TZNAME:EDT
DTSTART:20240310T070000
END:DAYLIGHT
BEGIN:STANDARD
TZOFFSETFROM:-0400
TZOFFSETTO:-0500
TZNAME:EST
DTSTART:20241103T060000
END:STANDARD
END:VTIMEZONE
BEGIN:VEVENT
DTSTART;TZID=America/New_York:20240905T090000
DTEND;TZID=America/New_York:20240908T170000
DTSTAMP:20260421T032224
CREATED:20240122T191753Z
LAST-MODIFIED:20240122T191753Z
UID:6227-1725526800-1725814800@www.addiction.rutgers.edu
SUMMARY:Cape Cod Symposium on Addictive Disorders - Rising Above the Challenges\, Reversing the Numbers\, & Celebrating Recovery\, Together!
DESCRIPTION:The field of addiction treatment is ever-changing\, and we’re dedicated to bringing you the best possible education\, led by national experts. At the Cape Cod Symposium\, you’ll find yourself among like-minded peers\, learning the latest\, most effective strategies for addiction treatment and behavioral health\, and addressing the significant challenges we must overcome. \nJoin us for an unparalleled educational and networking experience! When it comes to treating addiction\, we’re stronger together. \nFor 4 days\, unite to discuss new treatment strategies\, connect and engage with national and influential leaders\, and take away knowledge critical for utilizing significant changes in addiction treatment. \nFor more information\, click here.
URL:https://www.addiction.rutgers.edu/event/cape-cod-symposium-on-addictive-disorders-rising-above-the-challenges-reversing-the-numbers-celebrating-recovery-together/
END:VEVENT
END:VCALENDAR