BEGIN:VCALENDAR
VERSION:2.0
PRODID:-//Rutgers Addiction Research Center (RARC) - ECPv6.7.0//NONSGML v1.0//EN
CALSCALE:GREGORIAN
METHOD:PUBLISH
X-ORIGINAL-URL:https://www.addiction.rutgers.edu
X-WR-CALDESC:Events for Rutgers Addiction Research Center (RARC)
REFRESH-INTERVAL;VALUE=DURATION:PT1H
X-Robots-Tag:noindex
X-PUBLISHED-TTL:PT1H
BEGIN:VTIMEZONE
TZID:America/New_York
BEGIN:DAYLIGHT
TZOFFSETFROM:-0500
TZOFFSETTO:-0400
TZNAME:EDT
DTSTART:20240310T070000
END:DAYLIGHT
BEGIN:STANDARD
TZOFFSETFROM:-0400
TZOFFSETTO:-0500
TZNAME:EST
DTSTART:20241103T060000
END:STANDARD
END:VTIMEZONE
BEGIN:VEVENT
DTSTART;TZID=America/New_York:20240904T120000
DTEND;TZID=America/New_York:20240904T130000
DTSTAMP:20260423T151119
CREATED:20240823T121540Z
LAST-MODIFIED:20240823T121942Z
UID:7846-1725451200-1725454800@www.addiction.rutgers.edu
SUMMARY:Training in Addiction Research Program (TARP) Journal Club
DESCRIPTION:Date: Wednesday\, September 4\, 2024\nTime: 12:00 p.m. \nIn-person Location: Dean’s Conference Room\, Research Tower\, Busch Campus\, 675 Hoes Ln W\, Piscataway\, NJ 08854 \nVirtual via Zoom: CLICK HERE\nMeeting ID: 936 9263 4259\nPassword: 681889 \nJoin us for the TARP Journal Club\, where Maia Choi from the Behavioral and Systems Neuroscience Program in the Department of Psychology will present on the paper titled “Multivariate Analysis of 1.5 Million People Identifies Genetic Associations with Traits Related to Self-Regulation and Addiction.” Maia will review genome-wide association studies\, discuss externalizing behaviors and disorders\, and explore different measurements and aspects of impulsivity. \nClick here to download the PDF of the paper for your review before the meeting\, which is highly encouraged. If you have any questions or specific topics you’d like Maia to cover\, please email them to her at them to her by Monday\, September 4\, 2024. These events are for all TARP and RARC faculty and trainees\, as well as collaborators and friends\, so feel free to pass along the invitation to others. Food and drinks will be provided.
URL:https://www.addiction.rutgers.edu/event/training-in-addiction-research-program-tarp-journal-club/
LOCATION:Dean’s Conference Room\, Research Tower\, Busch Campus\, 675 Hoes Lane\, West Piscataway\, 08854
END:VEVENT
END:VCALENDAR