BEGIN:VCALENDAR
VERSION:2.0
PRODID:-//Rutgers Addiction Research Center (RARC) - ECPv6.7.0//NONSGML v1.0//EN
CALSCALE:GREGORIAN
METHOD:PUBLISH
X-ORIGINAL-URL:https://www.addiction.rutgers.edu
X-WR-CALDESC:Events for Rutgers Addiction Research Center (RARC)
REFRESH-INTERVAL;VALUE=DURATION:PT1H
X-Robots-Tag:noindex
X-PUBLISHED-TTL:PT1H
BEGIN:VTIMEZONE
TZID:America/New_York
BEGIN:DAYLIGHT
TZOFFSETFROM:-0500
TZOFFSETTO:-0400
TZNAME:EDT
DTSTART:20240310T070000
END:DAYLIGHT
BEGIN:STANDARD
TZOFFSETFROM:-0400
TZOFFSETTO:-0500
TZNAME:EST
DTSTART:20241103T060000
END:STANDARD
END:VTIMEZONE
BEGIN:VEVENT
DTSTART;TZID=America/New_York:20240828T110000
DTEND;TZID=America/New_York:20240828T120000
DTSTAMP:20260424T060539
CREATED:20240808T174134Z
LAST-MODIFIED:20240808T174134Z
UID:7740-1724842800-1724846400@www.addiction.rutgers.edu
SUMMARY:NeC-ROTAC Webinar - Building Bridges Between Harm Reduction and Treatment for People with Substance Use Disorders
DESCRIPTION:In recent years\, there has been growing support for a harm reduction approach to drug policy\, which emphasizes reducing some of the negative consequences associated with drug use through a variety of public health measures. Historically\, this approach has been a core value of syringe service programs\, expanding into other settings particularly as rising overdose deaths have made educating people about overdose risks and distributing naloxone more urgent. \nThis workshop will explore how harm reduction is evolving\, different interpretations of harm reduction\, and ways to build bridges between harm reduction services and the continuum of care for people who use drugs\, with a focus on rural communities. Discussion topics will include how harm reduction providers are offering or connecting participants to various types of treatment\, broadly defined\, and how treatment providers are incorporating harm reduction strategies into their services. \nPresenter: Susan Stellin\, MPH \nFor registration\, click here.
URL:https://www.addiction.rutgers.edu/event/nec-rotac-webinar-building-bridges-between-harm-reduction-and-treatment-for-people-with-substance-use-disorders/
LOCATION:Virtual
END:VEVENT
BEGIN:VEVENT
DTSTART;TZID=America/New_York:20240828T130000
DTEND;TZID=America/New_York:20240828T143000
DTSTAMP:20260424T060539
CREATED:20240808T170948Z
LAST-MODIFIED:20240808T170948Z
UID:7725-1724850000-1724855400@www.addiction.rutgers.edu
SUMMARY:Addiction Policy Forum Webinar - Digging into the BioPsychoSocial: Addressing the Holistic\, Multifaceted Needs of Individuals in Treatment and Recovery
DESCRIPTION:Join this free webinar  to learn about the biological\, psychological\, and social needs of individuals in treatment and recovery from a substance use disorder with Dr. James H. Berry\, Professor and Chair of the Department of Behavioral Medicine and Psychiatry and the Director of Addictions at the West Virginia University School of Medicine. \n\n\nThe biopsychosocial model addresses the biological\, psychological\, and social factors that contribute to many chronic illnesses\, including addiction. Biopsychosocial recognizes that there are multiple pathways to addiction\, such as genetic predisposition\, psychiatric and psychological factors like trauma or unhealthy coping skills\, and social factors like having substance-using peers. Join us to hear from Dr. Berry about these three critical domains in recovery and the need to build individualized\, tailored treatment plans. \n\n\nSpeaker: James H. Berry\, DO is Professor and Chair of the Department of Behavioral Medicine and Psychiatry at West Virginia University School of Medicine and the Director of Addictions. He is board-certified in both General Psychiatry and Addiction Psychiatry. He received his medical degree from Michigan State University College of Osteopathic Medicine\, completed a General Psychiatry residency at West Virginia University\, and an Addiction Psychiatry fellowship at the University of Hawaii. He and his colleagues at WVU have developed innovative community-based treatment models in response to the addiction crisis in Appalachia and are actively engaged in novel National Institute of Drug Abuse-supported neuromodulation research related to substance use disorders through WVU’s Rockefeller Neuroscience Institute. \nFor registration\, click here.
URL:https://www.addiction.rutgers.edu/event/addiction-policy-forum-webinar-digging-into-the-biopsychosocial-addressing-the-holistic-multifaceted-needs-of-individuals-in-treatment-and-recovery/
LOCATION:Virtual
END:VEVENT
END:VCALENDAR