BEGIN:VCALENDAR
VERSION:2.0
PRODID:-//Rutgers Addiction Research Center (RARC) - ECPv6.7.0//NONSGML v1.0//EN
CALSCALE:GREGORIAN
METHOD:PUBLISH
X-WR-CALNAME:Rutgers Addiction Research Center (RARC)
X-ORIGINAL-URL:https://www.addiction.rutgers.edu
X-WR-CALDESC:Events for Rutgers Addiction Research Center (RARC)
REFRESH-INTERVAL;VALUE=DURATION:PT1H
X-Robots-Tag:noindex
X-PUBLISHED-TTL:PT1H
BEGIN:VTIMEZONE
TZID:America/New_York
BEGIN:DAYLIGHT
TZOFFSETFROM:-0500
TZOFFSETTO:-0400
TZNAME:EDT
DTSTART:20240310T070000
END:DAYLIGHT
BEGIN:STANDARD
TZOFFSETFROM:-0400
TZOFFSETTO:-0500
TZNAME:EST
DTSTART:20241103T060000
END:STANDARD
END:VTIMEZONE
BEGIN:VEVENT
DTSTART;TZID=America/New_York:20240726T120000
DTEND;TZID=America/New_York:20240726T150000
DTSTAMP:20260423T061212
CREATED:20240711T163522Z
LAST-MODIFIED:20240711T163703Z
UID:7621-1721995200-1722006000@www.addiction.rutgers.edu
SUMMARY:Addiction Policy Forum Webinar - Criminal Justice Leaders Responding to Addiction
DESCRIPTION:This specialized training program is open to all criminal justice professionals and provides rich information about addiction science\, evidence-based treatment\, recovery\, and engagement strategies. Each participant will receive a 3-hour Continuing Education Certificate that can be submitted to state boards. Many individuals who have a substance use disorder have contact with the criminal justice system through an arrest\, citation\, probation\, diversion court\, or incarceration. It is estimated that 63% of people in jail and 58% in prison have a substance use disorder. The criminal justice system is one of the touchpoints where a criminal justice professional can have a conversation and respond to an individual’s addiction. These leaders are among the many stakeholders who can help create change within our communities. \nParticipants will learn about: \n\n\nThe Science of Addiction \n\n\nSigns and Symptoms \n\n\nEvidence-based Treatment Options \n\n\nMedications for Opioid Use Disorder (MOUD) \n\n\n\n\nEngagement strategies \n\n\nFor registration\, click here.
URL:https://www.addiction.rutgers.edu/event/addiction-policy-forum-webinar-criminal-justice-leaders-responding-to-addiction/
LOCATION:Virtual
END:VEVENT
END:VCALENDAR