BEGIN:VCALENDAR
VERSION:2.0
PRODID:-//Rutgers Addiction Research Center (RARC) - ECPv6.7.0//NONSGML v1.0//EN
CALSCALE:GREGORIAN
METHOD:PUBLISH
X-WR-CALNAME:Rutgers Addiction Research Center (RARC)
X-ORIGINAL-URL:https://www.addiction.rutgers.edu
X-WR-CALDESC:Events for Rutgers Addiction Research Center (RARC)
REFRESH-INTERVAL;VALUE=DURATION:PT1H
X-Robots-Tag:noindex
X-PUBLISHED-TTL:PT1H
BEGIN:VTIMEZONE
TZID:America/New_York
BEGIN:DAYLIGHT
TZOFFSETFROM:-0500
TZOFFSETTO:-0400
TZNAME:EDT
DTSTART:20240310T070000
END:DAYLIGHT
BEGIN:STANDARD
TZOFFSETFROM:-0400
TZOFFSETTO:-0500
TZNAME:EST
DTSTART:20241103T060000
END:STANDARD
END:VTIMEZONE
BEGIN:VEVENT
DTSTART;TZID=America/New_York:20240723T130000
DTEND;TZID=America/New_York:20240723T143000
DTSTAMP:20260423T061342
CREATED:20240702T155827Z
LAST-MODIFIED:20240702T155827Z
UID:7599-1721739600-1721745000@www.addiction.rutgers.edu
SUMMARY:Addiction Policy Forum Webinar - Understanding Substance Use Disorders and Stigma with Dr. Brian Fuehrlein
DESCRIPTION:Join us for the webinar Understanding Substance Use Disorders and Stigma on July 23rd at 1 p.m. ET with Brian Fuehrlein MD\, PhD\, Associate Professor of Psychiatry at Yale School of Medicine and the Director of the Psychiatric Emergency Room at the VA Connecticut Healthcare System. \nDr. Fuehrlein will present the basic neurobiological pathway involved in the development of substance use disorders\, explore diverse clinical manifestations observed in patients with substance use disorders\, and examine the repercussions of having a substance use disorder. Additionally\, Dr. Fuehrlein will outline the influence of stigma on individuals grappling with substance use disorders and their family members and how the use of language can be employed to mitigate stigma. \nFor more information and registration\, click here.
URL:https://www.addiction.rutgers.edu/event/addiction-policy-forum-webinar-understanding-substance-use-disorders-and-stigma-with-dr-brian-fuehrlein/
LOCATION:Virtual
END:VEVENT
END:VCALENDAR