BEGIN:VCALENDAR
VERSION:2.0
PRODID:-//Rutgers Addiction Research Center (RARC) - ECPv6.7.0//NONSGML v1.0//EN
CALSCALE:GREGORIAN
METHOD:PUBLISH
X-ORIGINAL-URL:https://www.addiction.rutgers.edu
X-WR-CALDESC:Events for Rutgers Addiction Research Center (RARC)
REFRESH-INTERVAL;VALUE=DURATION:PT1H
X-Robots-Tag:noindex
X-PUBLISHED-TTL:PT1H
BEGIN:VTIMEZONE
TZID:America/New_York
BEGIN:DAYLIGHT
TZOFFSETFROM:-0500
TZOFFSETTO:-0400
TZNAME:EDT
DTSTART:20240310T070000
END:DAYLIGHT
BEGIN:STANDARD
TZOFFSETFROM:-0400
TZOFFSETTO:-0500
TZNAME:EST
DTSTART:20241103T060000
END:STANDARD
END:VTIMEZONE
BEGIN:VEVENT
DTSTART;TZID=America/New_York:20240709T100000
DTEND;TZID=America/New_York:20240710T123000
DTSTAMP:20260422T155536
CREATED:20240611T143352Z
LAST-MODIFIED:20240611T143352Z
UID:7511-1720519200-1720614600@www.addiction.rutgers.edu
SUMMARY:SSW Webinar: Decoding the Language of Food and Eating: A Toolbox for Clinicians
DESCRIPTION:This 2-day webinar\, experiential in nature\, is designed to introduce and enhance the repertoire of skills and techniques in the treatment of food and eating related issues. Behaviors and symptoms will be examined along the continuum from normal eating through disordered eating and on to eating disorders. Through participatory activities attendees will examine the many different\, often hidden\, meanings of food and explore the underlying dynamics of eating behaviors. Skills such as decoding\, mindful eating\, free association and detailed inquiry will be introduced and practiced. Participants will learn how to decode and reframe the food language into the authentic\, relevant\, underlying issues. This is a 2-day webinar. Attendees must attend both days to receive a certificate of completion. [Required for Eating Disorders Clinical Certificate Program] \n\n\n\nInstructor: \nLeigh Garfield\, LCSW\, BCD\n\n\nDates: \nTuesday\, July 9\, 2024 and Wednesday\, July 10\, 2024\n\n\nTime: \n10:00 am – 12:30 pm ET\n\n\nLocation: \nLive Interactive Online Webinar\n\n\n\nFor more information\, click here.
URL:https://www.addiction.rutgers.edu/event/ssw-webinar-decoding-the-language-of-food-and-eating-a-toolbox-for-clinicians/
LOCATION:Virtual
END:VEVENT
BEGIN:VEVENT
DTSTART;TZID=America/New_York:20240710T090000
DTEND;TZID=America/New_York:20240710T170000
DTSTAMP:20260422T155536
CREATED:20240507T123805Z
LAST-MODIFIED:20240507T125347Z
UID:7220-1720602000-1720630800@www.addiction.rutgers.edu
SUMMARY:Grant Writing 101: NIH Grant Bootcamp
DESCRIPTION:Interested in learning the basics of writing\, submitting\, and achieving NIH K and R grants?  \n\n\nThis 1-day in-person bootcamp will be held on July 10th 9am-5pm in the EOHSI Building on the Busch Campus. This session is intended for novice grant writers planning to submit a K or R grant in the next year. If you have experience with submitting grants to NIH already\, this bootcamp may be too basic for you.\n\nTopics we will cover include navigating Rutgers Grants office (RAPSS) and NIH’s ERA Commons\, using Budget Templates\, writing compelling Specific Aims pages\, building Research Strategies and Training Plans\, advice from recent awardees and experienced peer reviewers and resubmitting grant applications.\n\n\nThe fee for attending this bootcamp is $80 for faculty and staff/administration and $40 for postdocs/residents/fellows. If your application for the bootcamp is selected\, you will receive an email to submit payment. \nRegister here: https://form.jotform.com/231323271801141
URL:https://www.addiction.rutgers.edu/event/grant-writing-101-nih-grant-bootcamp/
LOCATION:EOHSI Building\, Busch Campus
END:VEVENT
END:VCALENDAR