BEGIN:VCALENDAR
VERSION:2.0
PRODID:-//Rutgers Addiction Research Center (RARC) - ECPv6.7.0//NONSGML v1.0//EN
CALSCALE:GREGORIAN
METHOD:PUBLISH
X-WR-CALNAME:Rutgers Addiction Research Center (RARC)
X-ORIGINAL-URL:https://www.addiction.rutgers.edu
X-WR-CALDESC:Events for Rutgers Addiction Research Center (RARC)
REFRESH-INTERVAL;VALUE=DURATION:PT1H
X-Robots-Tag:noindex
X-PUBLISHED-TTL:PT1H
BEGIN:VTIMEZONE
TZID:America/New_York
BEGIN:DAYLIGHT
TZOFFSETFROM:-0500
TZOFFSETTO:-0400
TZNAME:EDT
DTSTART:20240310T070000
END:DAYLIGHT
BEGIN:STANDARD
TZOFFSETFROM:-0400
TZOFFSETTO:-0500
TZNAME:EST
DTSTART:20241103T060000
END:STANDARD
END:VTIMEZONE
BEGIN:VEVENT
DTSTART;TZID=America/New_York:20240530T090000
DTEND;TZID=America/New_York:20240531T170000
DTSTAMP:20260423T061341
CREATED:20240122T183718Z
LAST-MODIFIED:20240122T183742Z
UID:6201-1717059600-1717174800@www.addiction.rutgers.edu
SUMMARY:2024 Cannabis Clinical Outcomes Research Conference (CCORC)
DESCRIPTION:The Cannabis Clinical Outcomes Research Conference (CCORC) focuses on learning and sharing latest research findings\, advancing medical marijuana research and promoting the dissemination of scientific evidence on the effects of marijuana\, drug-drug interactions and safety. CCORC connects researchers\, physicians\, and medical marijuana industry leaders to promote the understanding of medical marijuana use on health. \nFor more information\, click here.
URL:https://www.addiction.rutgers.edu/event/cannabis-clinical-outcomes-research-conference-ccorc-2024/
LOCATION:UF Academic and Research Center at Lake Nona\, 6550 Sanger Rd\, Orlando\, Florida\, 32827
END:VEVENT
END:VCALENDAR