BEGIN:VCALENDAR
VERSION:2.0
PRODID:-//Rutgers Addiction Research Center (RARC) - ECPv6.7.0//NONSGML v1.0//EN
CALSCALE:GREGORIAN
METHOD:PUBLISH
X-WR-CALNAME:Rutgers Addiction Research Center (RARC)
X-ORIGINAL-URL:https://www.addiction.rutgers.edu
X-WR-CALDESC:Events for Rutgers Addiction Research Center (RARC)
REFRESH-INTERVAL;VALUE=DURATION:PT1H
X-Robots-Tag:noindex
X-PUBLISHED-TTL:PT1H
BEGIN:VTIMEZONE
TZID:America/New_York
BEGIN:DAYLIGHT
TZOFFSETFROM:-0500
TZOFFSETTO:-0400
TZNAME:EDT
DTSTART:20240310T070000
END:DAYLIGHT
BEGIN:STANDARD
TZOFFSETFROM:-0400
TZOFFSETTO:-0500
TZNAME:EST
DTSTART:20241103T060000
END:STANDARD
END:VTIMEZONE
BEGIN:VEVENT
DTSTART;VALUE=DATE:20240516
DTEND;VALUE=DATE:20240518
DTSTAMP:20260423T073313
CREATED:20231123T121534Z
LAST-MODIFIED:20231215T185629Z
UID:5893-1715817600-1715990399@www.addiction.rutgers.edu
SUMMARY:NJPN's 24th Annual Conference
DESCRIPTION:The NJPN Annual Conference is the largest statewide gathering of New Jersey professionals in the field of addiction and will return to the Atlantic City Convention Center in Atlantic City\, NJ! \nThe information provided below will populate your profile and will be used on Badges for networking\, Certificates\, and sending follow up communication about your Conference experience. \nFor FAQ and additional Conference information\, please check NJPN’s website www.njpn.org. \nIf you have any questions\, please contact Susanna Emanuel at Susanna@njpn.org or 732.367.0611 x2301. \nREGISTRATION FEE: \n\nEarly Bird Rate through December 31\, 2023\nAdvance Registration Rate beginning January 1\, 2024 thru April 14\, 2024\nLate Registration Rate beginning April 15\, 2024 thru May 15\,2024\nOn-site Registration will be available May 16 and 17\, 2024\n\nClick here for more information and registration.
URL:https://www.addiction.rutgers.edu/event/njpns-24th-annual-conference/
LOCATION:Alantic City Convention Center
END:VEVENT
BEGIN:VEVENT
DTSTART;TZID=America/New_York:20240517T010000
DTEND;TZID=America/New_York:20240517T140000
DTSTAMP:20260423T073313
CREATED:20240503T123548Z
LAST-MODIFIED:20240516T143134Z
UID:7194-1715907600-1715954400@www.addiction.rutgers.edu
SUMMARY:Training in Addiction Research Program (TARP): Featuring Mackenzie Hofmann\, "Non-academic careers in science: Industry"
DESCRIPTION:  \nDate: Friday\, May 17\, 2024 \nTime: 1:00 p.m. \nIn-person Location: Room 258\, RWJMS Research Building/Rutgers School of Public Health\, 683 Hoes Ln W\, Piscataway\, NJ 08854 \nVirtual via Zoom: CLICK HERE \nMeeting ID: 973 7924 2989 \nPassword: 148801 \nThese events are for all TARP and RARC faculty and trainees\, as well as collaborators and friends\, so feel free to pass along the invitation to others. Food and drinks will be provided.
URL:https://www.addiction.rutgers.edu/event/training-in-addiction-research-program-tarp-featuring-mackenzie-hofmann-non-academic-careers-in-science-industry/
END:VEVENT
END:VCALENDAR