BEGIN:VCALENDAR
VERSION:2.0
PRODID:-//Rutgers Addiction Research Center (RARC) - ECPv6.7.0//NONSGML v1.0//EN
CALSCALE:GREGORIAN
METHOD:PUBLISH
X-WR-CALNAME:Rutgers Addiction Research Center (RARC)
X-ORIGINAL-URL:https://www.addiction.rutgers.edu
X-WR-CALDESC:Events for Rutgers Addiction Research Center (RARC)
REFRESH-INTERVAL;VALUE=DURATION:PT1H
X-Robots-Tag:noindex
X-PUBLISHED-TTL:PT1H
BEGIN:VTIMEZONE
TZID:America/New_York
BEGIN:DAYLIGHT
TZOFFSETFROM:-0500
TZOFFSETTO:-0400
TZNAME:EDT
DTSTART:20240310T070000
END:DAYLIGHT
BEGIN:STANDARD
TZOFFSETFROM:-0400
TZOFFSETTO:-0500
TZNAME:EST
DTSTART:20241103T060000
END:STANDARD
END:VTIMEZONE
BEGIN:VEVENT
DTSTART;TZID=America/New_York:20240510T160000
DTEND;TZID=America/New_York:20240510T180000
DTSTAMP:20260420T132713
CREATED:20240426T145441Z
LAST-MODIFIED:20240426T150337Z
UID:7121-1715356800-1715364000@www.addiction.rutgers.edu
SUMMARY:Rutgers Addiction Research Center Year in Review and Social Event
DESCRIPTION:Please join us for an evening of food and drinks at the Rutgers Addiction Research Center’s annual Year in Review and Social Event. This gathering presents a wonderful opportunity to connect with fellow colleagues from Rutgers engaged in addiction research\, as well as our clinical and community partners. \nDr. Danielle Dick\, Director of the RARC\, will deliver brief remarks on the current state of the Rutgers Addiction Research Center at 4:30 p.m. \nAhead of the main event\, we’ll be hosting a trainee meet & greet hour starting at 3:00 p.m. This special hour is dedicated to post-docs\, graduate students\, research assistants\, and any other trainees involved in our four research domains (Basic Science; Epidemiology\, Etiology and Prevention; Treatment and Recovery; Public Policy). If you plan to attend the meet & greet\, please let us know on the registration page. \nDate & Time: Friday\, May 10\, 2024\, 4:00 – 6:00 PM \nLocation: Rutgers Club\, 85 Avenue E\, Piscataway\, NJ 08854 \nRegistration: CLICK HERE! \nDirections & Parking:The Rutgers Club is located on the second floor of Livingston Dining Commons in Piscataway. Click HERE for directions. There is a small parking lot next to the Rutgers Club. Additional parking is available at Lot 101. Please register for our special event parking HERE.\n*Students are not permitted to park in special events lots as per parking.
URL:https://www.addiction.rutgers.edu/event/rutgers-addiction-research-center-year-in-review-and-social-event/
LOCATION:Rutgers Club\, Livingston Campus
ORGANIZER;CN="Rutgers Addiction Research Center":MAILTO:rarc@bhi.rutgers.edu
END:VEVENT
END:VCALENDAR