BEGIN:VCALENDAR
VERSION:2.0
PRODID:-//Rutgers Addiction Research Center (RARC) - ECPv6.7.0//NONSGML v1.0//EN
CALSCALE:GREGORIAN
METHOD:PUBLISH
X-WR-CALNAME:Rutgers Addiction Research Center (RARC)
X-ORIGINAL-URL:https://www.addiction.rutgers.edu
X-WR-CALDESC:Events for Rutgers Addiction Research Center (RARC)
REFRESH-INTERVAL;VALUE=DURATION:PT1H
X-Robots-Tag:noindex
X-PUBLISHED-TTL:PT1H
BEGIN:VTIMEZONE
TZID:America/New_York
BEGIN:DAYLIGHT
TZOFFSETFROM:-0500
TZOFFSETTO:-0400
TZNAME:EDT
DTSTART:20240310T070000
END:DAYLIGHT
BEGIN:STANDARD
TZOFFSETFROM:-0400
TZOFFSETTO:-0500
TZNAME:EST
DTSTART:20241103T060000
END:STANDARD
END:VTIMEZONE
BEGIN:VEVENT
DTSTART;TZID=America/New_York:20240212T130000
DTEND;TZID=America/New_York:20240212T140000
DTSTAMP:20260421T040831
CREATED:20240119T152005Z
LAST-MODIFIED:20240307T165559Z
UID:6166-1707742800-1707746400@www.addiction.rutgers.edu
SUMMARY:Training in Addiction Research Program (TARP) Hybrid Presentation with Dr. Yavin Shaham
DESCRIPTION:Date:: Monday\, February 12\, 2024 \nTime: 1:00 p.m. \nIn-person Location: Deans Conference Room\, Research Tower\, 675 Hoes Ln W\, Piscataway\, NJ 08854 \nJoin Zoom: https://rutgers.zoom.us/j/94500048473?pwd=RWtnbnJsa09DL08rM0xDRHZ4bURwUT09 \nMeeting ID: 945 0004 8473\nPassword: 819120 \nThese events are for all TARP and RARC faculty and trainees\, as well as collaborators and friends\, so feel free to pass along the invitation to others.
URL:https://www.addiction.rutgers.edu/event/training-in-addiction-research-program-tarp-hybrid-presentation-with-dr-yavin-shaham/
LOCATION:Deans Conference Room\, 675 Hoes Lane West\, Piscataway\, New Jersey\, 08854
END:VEVENT
END:VCALENDAR