BEGIN:VCALENDAR
VERSION:2.0
PRODID:-//Rutgers Addiction Research Center (RARC) - ECPv6.7.0//NONSGML v1.0//EN
CALSCALE:GREGORIAN
METHOD:PUBLISH
X-ORIGINAL-URL:https://www.addiction.rutgers.edu
X-WR-CALDESC:Events for Rutgers Addiction Research Center (RARC)
REFRESH-INTERVAL;VALUE=DURATION:PT1H
X-Robots-Tag:noindex
X-PUBLISHED-TTL:PT1H
BEGIN:VTIMEZONE
TZID:America/New_York
BEGIN:DAYLIGHT
TZOFFSETFROM:-0500
TZOFFSETTO:-0400
TZNAME:EDT
DTSTART:20240310T070000
END:DAYLIGHT
BEGIN:STANDARD
TZOFFSETFROM:-0400
TZOFFSETTO:-0500
TZNAME:EST
DTSTART:20241103T060000
END:STANDARD
END:VTIMEZONE
BEGIN:VEVENT
DTSTART;TZID=America/New_York:20240201T090000
DTEND;TZID=America/New_York:20240201T110000
DTSTAMP:20260422T234012
CREATED:20240117T174159Z
LAST-MODIFIED:20240117T174657Z
UID:6147-1706778000-1706785200@www.addiction.rutgers.edu
SUMMARY:New Jersey State Policy Lab Panel - Bridging the Gap Between Researchers and Government Agencies
DESCRIPTION:Local governments of all sizes are facing increasing threats to their fiscal and economic health\, community well-being\, and environmental resources. These agencies often will work with researchers to determine how best to address these challenges. \n\n\nOn February 1st\, the New Jersey State Policy Lab will be hosting a new panel\, “Bridging the Gap Between Researchers and Government Agencies\,” which will be presented by Elizabeth Bell and Aaron Deslatte\, Ph.D. Elizabeth Bell is an Assistant Professor at the University of Texas LBJ School of Public Affairs and Aaron Deslatte\, Ph.D. is an Associate Professor at the Indiana University O’Neill School of Public and Environmental Affairs. Each will discuss their experiences handling researcher-practitioner partnerships with federal\, state\, and local agencies and provide recommendations for better tailoring research incentives in universities with research needs in communities. \n\n\nThe panel will be held at the Edward J. Bloustein School of Planning and Public Policy in Room 261 from 9:30am-11:30am. A continental breakfast will be offered at 9:00am. \nWe encourage you to register for our event through the link here.
URL:https://www.addiction.rutgers.edu/event/new-jersey-state-policy-lab-panel-bridging-the-gap-between-researchers-and-government-agencies/
LOCATION:Edward J. Bloustein School of Planning and Public Policy\, 33 Livingston Avenue\, New Brunswick\, 08901
END:VEVENT
END:VCALENDAR