BEGIN:VCALENDAR
VERSION:2.0
PRODID:-//Rutgers Addiction Research Center (RARC) - ECPv6.7.0//NONSGML v1.0//EN
CALSCALE:GREGORIAN
METHOD:PUBLISH
X-WR-CALNAME:Rutgers Addiction Research Center (RARC)
X-ORIGINAL-URL:https://www.addiction.rutgers.edu
X-WR-CALDESC:Events for Rutgers Addiction Research Center (RARC)
REFRESH-INTERVAL;VALUE=DURATION:PT1H
X-Robots-Tag:noindex
X-PUBLISHED-TTL:PT1H
BEGIN:VTIMEZONE
TZID:America/New_York
BEGIN:DAYLIGHT
TZOFFSETFROM:-0500
TZOFFSETTO:-0400
TZNAME:EDT
DTSTART:20240310T070000
END:DAYLIGHT
BEGIN:STANDARD
TZOFFSETFROM:-0400
TZOFFSETTO:-0500
TZNAME:EST
DTSTART:20241103T060000
END:STANDARD
END:VTIMEZONE
BEGIN:VEVENT
DTSTART;TZID=America/New_York:20240125T110000
DTEND;TZID=America/New_York:20240125T120000
DTSTAMP:20260420T033622
CREATED:20240116T195419Z
LAST-MODIFIED:20240116T195443Z
UID:6142-1706180400-1706184000@www.addiction.rutgers.edu
SUMMARY:Knock Out Opioid Use Day Learning Series - The Opioid Crisis: An Overview featuring Dr. Lewis Nelson
DESCRIPTION:Register for a Knock Out Opioid Abuse Day Learning Series Webinar \n“The Opioid Crisis: An Overview”​​ \nREGISTER NOW \nAn expert panel will discuss the webinar topic & answer questions – Learning opportunities in safe prescribing for physicians\, dentists\, nurses and any other medical practitioners authorized to prescribe opioid-based painkillers and inform all prescribers on the local laws that pertain to the prescribing of opioids. \nPANELISTS \n \n  \nLewis S. Nelson\, MD\, MBA \n\n\n\n\n\nLewis S. Nelson is Professor and Chair of the Department of Emergency Medicine and Chief of the Division of Medical Toxicology at Rutgers New Jersey Medical School\, in Newark\, NJ. He is board certified in emergency medicine\, medical toxicology\, and addiction medicine. Dr. Nelson serves as a long-standing consultant to the CDC\, DHS\, and FDA and works closely with several professional organizations addressing the medical and social consequences of substance use. His areas of interest include non-opioid pain relief strategies\, opioid overdose and management\, addiction and withdrawal management\, and health policy focused on issues related to medication safety and substance use. \n  \n \n  \nCaptain Jason Piotrowski \n\n\n\n\n\n\n\nNew Jersey State Police Captain Jason Piotrowski embarked on his law enforcement career in 1995\, starting as a local police officer before joining the New Jersey State Police in 2001. Commencing as a general duty road trooper\, he was later selected as an inaugural member of the state fusion center in 2006. From 2014 to 2023\, Jason played a pivotal role in the development and leadership of the New Jersey Drug Monitoring Initiative\, focusing on data collection\, analysis\, intelligence production\, and comprehensive training and outreach efforts. Currently\, he serves as the Executive Officer in the Forensic and Technical Services Section. In addition to his law enforcement duties\, Captain Piotrowski is a Bloomberg American Health Initiative Fellow and an MPH Candidate at Johns Hopkins University. 
URL:https://www.addiction.rutgers.edu/event/knock-out-opioid-use-day-learning-series-the-opioid-crisis-an-overview-featuring-dr-lewis-nelson/
LOCATION:Virtual
END:VEVENT
END:VCALENDAR