BEGIN:VCALENDAR
VERSION:2.0
PRODID:-//Rutgers Addiction Research Center (RARC) - ECPv6.7.0//NONSGML v1.0//EN
CALSCALE:GREGORIAN
METHOD:PUBLISH
X-WR-CALNAME:Rutgers Addiction Research Center (RARC)
X-ORIGINAL-URL:https://www.addiction.rutgers.edu
X-WR-CALDESC:Events for Rutgers Addiction Research Center (RARC)
REFRESH-INTERVAL;VALUE=DURATION:PT1H
X-Robots-Tag:noindex
X-PUBLISHED-TTL:PT1H
BEGIN:VTIMEZONE
TZID:America/New_York
BEGIN:DAYLIGHT
TZOFFSETFROM:-0500
TZOFFSETTO:-0400
TZNAME:EDT
DTSTART:20240310T070000
END:DAYLIGHT
BEGIN:STANDARD
TZOFFSETFROM:-0400
TZOFFSETTO:-0500
TZNAME:EST
DTSTART:20241103T060000
END:STANDARD
END:VTIMEZONE
BEGIN:VEVENT
DTSTART;TZID=America/New_York:20240124T110000
DTEND;TZID=America/New_York:20240124T120000
DTSTAMP:20260419T233315
CREATED:20240110T184327Z
LAST-MODIFIED:20240110T184327Z
UID:6129-1706094000-1706097600@www.addiction.rutgers.edu
SUMMARY:NeC-ROTAC Webinar - Addressing Myths About Substance Use\, Addiction\, Treatment and Recovery
DESCRIPTION:How did you learn about substance use\, addiction\, treatment and recovery? What are the sources of information that shaped your views? This workshop will discuss how news\, entertainment\, and social media\, as well as personal experience\, influence how people understand substance use disorders and different pathways to recovery. It will also address common beliefs like\, “You have to hit rock bottom” and “Recovery is rare\,” and explain how attitudes\, practices\, and data collection have evolved. Information from the 2022 National Survey on Drug Use and Health and other sources will be presented\, illustrating the complexity of substance use challenges and trends in rural vs. urban communities. \nPresenter: Susan Stellin\, MPH – is a writer\, educator\, and public health consultant focusing on health-centered responses to substance use and addiction. Since earning a master’s in public health at Columbia University\, she has worked on projects about ways to reduce overdose deaths\, reform punitive drug policies\, and expand access to harm reduction\, treatment\, and recovery support. Recent clients include NYU Langone’s Health x Housing Lab\, the Northeast & Caribbean Addiction Technology Transfer Center\, the Opioid Response Network\, the NYC Department of Health and Mental Hygiene\, the Overdose Prevention Program at Vital Strategies\, and the Vera Institute of Justice. She regularly leads training workshops for service providers working with people experiencing substance use\, mental health\, and housing challenges\, and has also taught undergraduate courses about media ethics\, collaborative storytelling\, and the history of journalism. \nRegistration: click here
URL:https://www.addiction.rutgers.edu/event/nec-rotac-webinar-addressing-myths-about-substance-use-addiction-treatment-and-recovery/
LOCATION:Virtual
END:VEVENT
BEGIN:VEVENT
DTSTART;TZID=America/New_York:20240124T130000
DTEND;TZID=America/New_York:20240124T150000
DTSTAMP:20260419T233315
CREATED:20240110T184559Z
LAST-MODIFIED:20240110T185842Z
UID:6131-1706101200-1706108400@www.addiction.rutgers.edu
SUMMARY:NeC-ROTAC Webinar - Harm Reduction Principles: Foundations to Implementation in Treatment and Community Settings
DESCRIPTION:While there is a significant push to implement harm reduction in a variety of settings\, many providers and community members may not have an understanding of what harm reduction is and how it can be implemented and sustained in practice. This webinar will provide attendees with the core principles of harm reduction\, and identify related strategies and challenges to implementation in a variety of treatment and community spaces.                                 \nPresenter: Dr. Delores Blackwell\, LCSW\, is a multijurisdictional licensed clinical social worker. She has held numerous administrative and clinical positions within both the addictions and mental health disciplines. She is an adjunct professor at both Touro College and Hunter College Silberman Schools of Social Work. In conjunction with her numerous roles\, she also conducts and develops trainings for mental health and addictions professionals in both direct practice and leadership positions. She is currently a Research Project Manager at the New York State Psychiatric Institute at Columbia University Medical Center\, where she works with the Opioid Response Network and Rural Opioid Technical Assistance Center within the Northeast and Caribbean (HHS Region 2). \nRegistration: click here
URL:https://www.addiction.rutgers.edu/event/nec-rotac-webinar-harm-reduction-principles-foundations-to-implementation-in-treatment-and-community-settings/
LOCATION:Virtual
END:VEVENT
END:VCALENDAR