BEGIN:VCALENDAR
VERSION:2.0
PRODID:-//Rutgers Addiction Research Center (RARC) - ECPv6.7.0//NONSGML v1.0//EN
CALSCALE:GREGORIAN
METHOD:PUBLISH
X-WR-CALNAME:Rutgers Addiction Research Center (RARC)
X-ORIGINAL-URL:https://www.addiction.rutgers.edu
X-WR-CALDESC:Events for Rutgers Addiction Research Center (RARC)
REFRESH-INTERVAL;VALUE=DURATION:PT1H
X-Robots-Tag:noindex
X-PUBLISHED-TTL:PT1H
BEGIN:VTIMEZONE
TZID:America/New_York
BEGIN:DAYLIGHT
TZOFFSETFROM:-0500
TZOFFSETTO:-0400
TZNAME:EDT
DTSTART:20240310T070000
END:DAYLIGHT
BEGIN:STANDARD
TZOFFSETFROM:-0400
TZOFFSETTO:-0500
TZNAME:EST
DTSTART:20241103T060000
END:STANDARD
END:VTIMEZONE
BEGIN:VEVENT
DTSTART;TZID=America/New_York:20240119T140000
DTEND;TZID=America/New_York:20240119T150000
DTSTAMP:20260420T012340
CREATED:20240110T182841Z
LAST-MODIFIED:20240110T182841Z
UID:6127-1705672800-1705676400@www.addiction.rutgers.edu
SUMMARY:GENA Program Research Meeting featuring Dr. Elizabeth Stone\, "Addressing Services and Policy in a Fragmented System"
DESCRIPTION:The January GENA Program research meeting\, is pleased to host Dr. Elizabeth Stone (Faculty in the RWJMS Department of Psychiatry and Core Faculty for the Center for Health Services Research at the IFH)\, who will be speaking on “Addressing Services and Policy in a Fragmented System”. \nJoin in-person at UBHC North D203\, or via zoom (https://rutgers.zoom.us/j/97652076904?pwd=RXIxeFpLRFR6Q3Q1RU1zTkM2M1lOZz09&from=addon).\nMeeting ID: 976 5207 6904\nPassword: 464439\nJoin by phone: \nABSTRACT: Addressing Services and Policy in a Fragmented System\nThe healthcare system in the United States is extremely fragmented with services for physical and mental healthcare\, addiction treatment\, and social welfare often delivered by different providers in different locations with different eligibility criteria and separate funding mechanisms. The effects of a fragmented system land disproportionately on individuals with serious mental illness\, substance use disorder\, and disability who require more services and often have the least resources to navigate the myriad systems. There are opportunities for intervention at multiple levels (federal\, state\, individual) to address fragmentation and improve outcomes for people living at the intersections of these systems.
URL:https://www.addiction.rutgers.edu/event/gena-program-research-meeting-featuring-dr-elizabeth-stone-addressing-services-and-policy-in-a-fragmented-system/
LOCATION:UBHC Building\, 671 Hoes Ln. W.\, Piscataway\, NJ\, 08854\, United States
END:VEVENT
END:VCALENDAR