BEGIN:VCALENDAR
VERSION:2.0
PRODID:-//Rutgers Addiction Research Center (RARC) - ECPv6.7.0//NONSGML v1.0//EN
CALSCALE:GREGORIAN
METHOD:PUBLISH
X-WR-CALNAME:Rutgers Addiction Research Center (RARC)
X-ORIGINAL-URL:https://www.addiction.rutgers.edu
X-WR-CALDESC:Events for Rutgers Addiction Research Center (RARC)
REFRESH-INTERVAL;VALUE=DURATION:PT1H
X-Robots-Tag:noindex
X-PUBLISHED-TTL:PT1H
BEGIN:VTIMEZONE
TZID:America/New_York
BEGIN:DAYLIGHT
TZOFFSETFROM:-0500
TZOFFSETTO:-0400
TZNAME:EDT
DTSTART:20230312T070000
END:DAYLIGHT
BEGIN:STANDARD
TZOFFSETFROM:-0400
TZOFFSETTO:-0500
TZNAME:EST
DTSTART:20231105T060000
END:STANDARD
END:VTIMEZONE
BEGIN:VEVENT
DTSTART;TZID=America/New_York:20231129T080000
DTEND;TZID=America/New_York:20231130T170000
DTSTAMP:20260423T005748
CREATED:20230822T195332Z
LAST-MODIFIED:20230822T195332Z
UID:4516-1701244800-1701363600@www.addiction.rutgers.edu
SUMMARY:BHI Postdoc Recruitment Event
DESCRIPTION:The BHI Postdoc Recruitment Event is a two-day event\, designed for PhD or MD/PhD students and current post-docs looking for postdoctoral training in basic\, translational\, and clinical research in neuroscience and connect them with Rutgers faculty interested in recruiting post-docs.The BHI will select up to 20 highly qualified candidates to attend this all-expenses-paid event. They are particularly interested in candidates from groups underrepresented in biomedical and health sciences. Selected candidates will be notified by October and\, soon after\, we will help make your travel arrangements to visit Rutgers. \nApplication Deadline: September 30\, 2023 \nFor more information: click here!
URL:https://www.addiction.rutgers.edu/event/bhi-postdoc-recruitment-event/
END:VEVENT
BEGIN:VEVENT
DTSTART;TZID=America/New_York:20231130T090000
DTEND;TZID=America/New_York:20231130T173000
DTSTAMP:20260423T005748
CREATED:20230803T135648Z
LAST-MODIFIED:20231003T184750Z
UID:4394-1701334800-1701365400@www.addiction.rutgers.edu
SUMMARY:Ninth Annual Rutgers Brain Health Institute Symposium
DESCRIPTION:The symposium will feature talks by new BHI faculty whose research spans basic\, translational\, and clinical neuroscience. The keynote speaker is Dr. Michael Shadlen from Columbia University. Mike is an Investigator of the Howard Hughes Medical Research Institute and Professor of Neuroscience at Columbia University Medical School. He is a member of the Mortimer B. Zuckerman Mind Brain Behavior Institute (ZI) and the Kavli Institute of Brain Science. Dr. Shadlen obtained his undergraduate and medical degrees at Brown University\, PhD at UC Berkeley with Ralph Freeman\, and post-doc training in clinical neurology at Stanford University with William Newsome. His research focuses primarily on the neural mechanisms that underlie decision making. He is also a jazz guitarist and co-curates the Jazz Artist in Residence program at ZI. Honors include the Alden Spencer Prize\, Golden Brain\, Lashley Award\, and elections to the AAAS\, National Academy of Medicine\, and the National Academy of Sciences. \nKeeping with the clinical neuroscience theme\, the afternoon session at the symposium will feature Dr. Michal Beeri\, the newly recruited Director of the Krieger Klein Alzheimer and Dementia Clinical Research & Treatment Center in BHI\, as well as presentations by Rey Panettieri\, MD and Nancy Reilly\, RN on resources available for clinical neuroscience research via the NJACTS – CTSA and RBHS Clinical Trials Office. \nThe student/post-doc poster session and award ceremony will wrap up the symposium. This year\, the top three posters at the symposium will be awarded $200\, $150\, and $100\, respectively. Trainees\, you can’t win unless you participate; so\, don’t forget to register and submit your abstracts (use the downloadable Word submission form on the registration site- also attached here for convenience) by the November 3\, 2023\, deadline. We realize you all are eager to present posters- unfortunately\, due to space limitations\, we can only accept about 50 posters. We request one poster submission per lab. We will accept posters from the first 50 trainees who register online. \nCLICK HERE TO REGISTER!
URL:https://www.addiction.rutgers.edu/event/ninth-annual-rutgers-brain-health-institute-symposium/
LOCATION:Douglass Student Center\, 100 George St\, New Brunswick\, 08901
END:VEVENT
BEGIN:VEVENT
DTSTART;TZID=America/New_York:20231130T093000
DTEND;TZID=America/New_York:20231130T123000
DTSTAMP:20260423T005748
CREATED:20231102T140001Z
LAST-MODIFIED:20231102T140001Z
UID:5659-1701336600-1701347400@www.addiction.rutgers.edu
SUMMARY:Trauma Risk and Recovery
DESCRIPTION:Individuals with Developmental Disabilities are likely to experience some form of trauma during their lifetime. There is often a failure to recognize the effects of trauma on people with DD and the signs of past experiences may be overlooked or untreated. This session will explore the types of traumatic events that are common and why people with Disabilities are more at risk. Additionally\, the connection between trauma and its impact on an individual’s biology and behavior will be discussed. Participants will be provided with an overview of trauma-informed approaches to support healing and recovery including therapeutic interventions\, coping strategies\, and positive identity development. [Elective for Developmental Disabilities or Trauma Response & Crisis Intervention Certificate Program] \n\n\n\nInstructor: \nMelissa Cheplic\, MPH\n\n\nDate: \nThursday\, November 30\, 2023\n\n\nTime: \n9:30 am – 12:30 pm ET\n\n\nLocation: \nLive Interactive Online Webinar\n\n\n\nFor more information\, click here.
URL:https://www.addiction.rutgers.edu/event/trauma-risk-and-recovery/
LOCATION:Virtual
END:VEVENT
BEGIN:VEVENT
DTSTART;TZID=America/New_York:20231130T123000
DTEND;TZID=America/New_York:20231130T133000
DTSTAMP:20260423T005748
CREATED:20230822T162843Z
LAST-MODIFIED:20230822T164351Z
UID:4506-1701347400-1701351000@www.addiction.rutgers.edu
SUMMARY:Emerging Addiction Seminar Series: Dr. Eric Pedersen
DESCRIPTION:Please join the Center of Alcohol and Substance Use Studies to hear Dr. Pedersen present:\nComorbid Posttraumatic Stress Disorder and Substance Use in Veterans: Implementing Internet-Based Interventions Dr. Pedersen will be presenting his seminar as the 2023 Cooper Colloquium featured speaker \nDr. Pedersen is an associate professor of psychiatry and the behavioral sciences at the University of Southern California Keck School of Medicine and an adjunct behavioral scientist at the RAND Corporation. \nHis work focuses on substance use and co-occurring mental health disorders in veteran and young adult populations. He is interested in finding ways to target comorbid posttraumatic stress disorder and substance use disorders. His work has examined constructs of guilt\, mindfulness\, pain\, sleep\, and adverse experiences as they relate to PTSD\, alcohol\, and cannabis use. Dr. Pedersen is also interested in using internet-based methods to help reduce alcohol \n 
URL:https://www.addiction.rutgers.edu/event/emerging-addiction-seminar-series-dr-eric-pedersen/
LOCATION:Smithers Hall\, Room 200\, 607 Allison Rd\, Piscataway\, NJ\, 08854
ORGANIZER;CN="Rutgers Center of Alcohol & Substance Use Studies":MAILTO:cas_ed@rutgers.edu
END:VEVENT
END:VCALENDAR