BEGIN:VCALENDAR
VERSION:2.0
PRODID:-//Rutgers Addiction Research Center (RARC) - ECPv6.7.0//NONSGML v1.0//EN
CALSCALE:GREGORIAN
METHOD:PUBLISH
X-WR-CALNAME:Rutgers Addiction Research Center (RARC)
X-ORIGINAL-URL:https://www.addiction.rutgers.edu
X-WR-CALDESC:Events for Rutgers Addiction Research Center (RARC)
REFRESH-INTERVAL;VALUE=DURATION:PT1H
X-Robots-Tag:noindex
X-PUBLISHED-TTL:PT1H
BEGIN:VTIMEZONE
TZID:America/New_York
BEGIN:DAYLIGHT
TZOFFSETFROM:-0500
TZOFFSETTO:-0400
TZNAME:EDT
DTSTART:20230312T070000
END:DAYLIGHT
BEGIN:STANDARD
TZOFFSETFROM:-0400
TZOFFSETTO:-0500
TZNAME:EST
DTSTART:20231105T060000
END:STANDARD
END:VTIMEZONE
BEGIN:VEVENT
DTSTART;TZID=America/New_York:20231111T083000
DTEND;TZID=America/New_York:20231111T140000
DTSTAMP:20260423T073037
CREATED:20231107T183642Z
LAST-MODIFIED:20231108T165257Z
UID:5712-1699691400-1699711200@www.addiction.rutgers.edu
SUMMARY:RWJMS Integrated Behavioral Health Policy Summit
DESCRIPTION:Rutgers medical students are hosting the first Integrated Behavioral Health Policy Summit inviting medical students across the state of New Jersey\, behavioral health providers\, and leaders across UBHC\, Medicaid\, MHANJ\, etc. The aim of the policy summit includes highlighting the current challenges in the delivery of integrated behavioral health in New Jersey\, through hosting an interdisciplinary panel discussion\, research symposium\, and resolution writing workshop. \nAs prospective physicians\, greater than one fourth of our patients may suffer from a mental health illness\, regardless of specialty\, which highlights a critical need to examine the complexities of the behavioral health crisis\, understand the mental health policy landscape\, and advance advocacy efforts which address both clinical and non-clinical disparities affecting the behavioral health of our country. Supporting the federal government’s initiative for integrating behavioral health\, this proposal highlights a formal statewide behavioral health policy summit hosting medical students from Rutgers Robert Wood Johnson Medical School\, New Jersey Medical School\, Hackensack Meridian\, and Cooper Medical School of Rowan University to equip medical students with awareness of Integrative Behavioral Healthcare\, and learn from faculty members on novel pedagogical approaches to incorporate robust mental health policy education into their clinical training to support their patients\, peers\, and themselves.
URL:https://www.addiction.rutgers.edu/event/rwjms-integrated-behavioral-health-policy-summit/
LOCATION:Virtual
END:VEVENT
END:VCALENDAR