BEGIN:VCALENDAR
VERSION:2.0
PRODID:-//Rutgers Addiction Research Center (RARC) - ECPv6.7.0//NONSGML v1.0//EN
CALSCALE:GREGORIAN
METHOD:PUBLISH
X-ORIGINAL-URL:https://www.addiction.rutgers.edu
X-WR-CALDESC:Events for Rutgers Addiction Research Center (RARC)
REFRESH-INTERVAL;VALUE=DURATION:PT1H
X-Robots-Tag:noindex
X-PUBLISHED-TTL:PT1H
BEGIN:VTIMEZONE
TZID:America/New_York
BEGIN:DAYLIGHT
TZOFFSETFROM:-0500
TZOFFSETTO:-0400
TZNAME:EDT
DTSTART:20230312T070000
END:DAYLIGHT
BEGIN:STANDARD
TZOFFSETFROM:-0400
TZOFFSETTO:-0500
TZNAME:EST
DTSTART:20231105T060000
END:STANDARD
END:VTIMEZONE
BEGIN:VEVENT
DTSTART;TZID=America/New_York:20231027T080000
DTEND;TZID=America/New_York:20231027T160000
DTSTAMP:20260422T214009
CREATED:20230921T110145Z
LAST-MODIFIED:20230921T110145Z
UID:5127-1698393600-1698422400@www.addiction.rutgers.edu
SUMMARY:2nd Annual No More Dead Ends on the Road to Recovery Conference
DESCRIPTION:Join the Passaic County Department of Health Services and Overdose Fatality Review Team for an educational experience with engaging speakers\, immersive breakout rooms\, role playing activities\, & networking opportunities! \nWith topics focused on harm reduction\, exploration of barriers\, strategies for building strong rapport with clientele/target populations\, and more; this conference will provide in-depth exploration\, quality information\, and discussion on the aforementioned topics and various methods of preventative action that can be utilized. Ultimately emphasizing how each and every one of us and Passaic County as a whole can implement these preventive measures and maximize the potential to mitigate overdoses as well as save and protect lives within our community. \nWe invite all those that are in the field of or directly involved with substance use\, addiction\, mental health\, prevention\, counseling\, treatment\, and social work as well as providers\, community leaders\, and others that wish to learn more about this topic and be part of the conversation. \nThis event is free\, first come\, first served. Maximum capacity of 150. \n\nFor more information\, click here.
URL:https://www.addiction.rutgers.edu/event/2nd-annual-no-more-dead-ends-on-the-road-to-recovery-conference/
LOCATION:Montclair State University Conference Center\, 1 Normal Avenue University Hall\, Montclair\,\, 07043
END:VEVENT
BEGIN:VEVENT
DTSTART;TZID=America/New_York:20231027T120000
DTEND;TZID=America/New_York:20231027T140000
DTSTAMP:20260422T214009
CREATED:20231005T164219Z
LAST-MODIFIED:20231005T164219Z
UID:5381-1698408000-1698415200@www.addiction.rutgers.edu
SUMMARY:RU Communicating Science? Workshop
DESCRIPTION:Join us for our kickoff event\, featuring interactive activities and presentations to introduce the foundations of science communication and the different approaches and modalities (e.g.\, podcasts\, op-eds\, infographics\, & social media).  The workshop will be accompanied with an “hour of action” the following month to apply skills towards sharing your research. \nLocation: UBHC Building\, Room D201/203\, Piscataway\, NJ 08854 \nTime: 12:00- 2:00pm 2 hours of presentations\, interactive activities\, and lunch \nRegistration: click here!\nDownload event flyer 10.27 SciComm Workshop_RARC.
URL:https://www.addiction.rutgers.edu/event/ru-communicating-science-workshop/
LOCATION:UBHC Building\, 671 Hoes Ln. W.\, Piscataway\, NJ\, 08854\, United States
END:VEVENT
END:VCALENDAR