BEGIN:VCALENDAR
VERSION:2.0
PRODID:-//Rutgers Addiction Research Center (RARC) - ECPv6.7.0//NONSGML v1.0//EN
CALSCALE:GREGORIAN
METHOD:PUBLISH
X-WR-CALNAME:Rutgers Addiction Research Center (RARC)
X-ORIGINAL-URL:https://www.addiction.rutgers.edu
X-WR-CALDESC:Events for Rutgers Addiction Research Center (RARC)
REFRESH-INTERVAL;VALUE=DURATION:PT1H
X-Robots-Tag:noindex
X-PUBLISHED-TTL:PT1H
BEGIN:VTIMEZONE
TZID:America/New_York
BEGIN:DAYLIGHT
TZOFFSETFROM:-0500
TZOFFSETTO:-0400
TZNAME:EDT
DTSTART:20230312T070000
END:DAYLIGHT
BEGIN:STANDARD
TZOFFSETFROM:-0400
TZOFFSETTO:-0500
TZNAME:EST
DTSTART:20231105T060000
END:STANDARD
END:VTIMEZONE
BEGIN:VEVENT
DTSTART;TZID=America/New_York:20230927T090000
DTEND;TZID=America/New_York:20230927T160000
DTSTAMP:20260425T090843
CREATED:20230901T134612Z
LAST-MODIFIED:20230901T134612Z
UID:4872-1695805200-1695830400@www.addiction.rutgers.edu
SUMMARY:New Jersey Prevention Network 7th Annual peer Summit
DESCRIPTION:NJPN’s 7th Annual NJPN Peer Summit is returning in-person! Join us live from Asbury Park on September 27\, 2023 for The Rising Tides of Peer Support: Strategies to Save Lives. Registration is offered at no cost! \n\n\nThis will be an exciting 1-day LIVE event including keynote speakers\, interactive workshops\, and recovery-oriented activity events brought together exclusively for everyone working in the peer recovery support services field. Gain insights\, inspiration\, connections\, and strategies for recovery with topics focusing on diversity and equity to the latest in best practices. More details to come. \nSpace is limited—reserve your spot today! \n\nLocation: Asbury Park \nFor more information\, click here. 
URL:https://www.addiction.rutgers.edu/event/new-jersey-prevention-network-7th-annual-peer-summit/
END:VEVENT
BEGIN:VEVENT
DTSTART;TZID=America/New_York:20230927T110000
DTEND;TZID=America/New_York:20230927T120000
DTSTAMP:20260425T090843
CREATED:20230914T152933Z
LAST-MODIFIED:20230914T153108Z
UID:5048-1695812400-1695816000@www.addiction.rutgers.edu
SUMMARY:NeC-ROTAC Webinar - Stress on the Farm: Understanding and Addressing the Stress and Suicide Risk in Farmers
DESCRIPTION:Farmers experience very high levels of stress\, triggered by stressors such as uncertain weather\, uncertain finances\, unpredictable input costs and commodity prices\, changing policies and tariffs\, exhaustion\, social isolation\, high risk of injury\, and more recently\, the COVID-19 pandemic. These high levels of stress can increase the risks of health problems\, substance misuse\, and suicide. Providing support to farmers for stress management and wellbeing can be challenging. Values such as stoicism and stigma around help-seeking make it difficult for farmers to admit when they are struggling with stress. This webinar will provide information on suicide and substance misuse rates in farmers\, discuss stress and its impact\, review simple strategies for stress management\, and provide an overview of an Extension-based intervention to address farmer stress.  \n Trainer: Anna Scheyett\, PhD\, MSW\, LCSW\, is professor and former dean at the University of Georgia School of Social Work with a joint appointment in the College of Agricultural and Environmental Sciences. Dr. Scheyett’s research examines community well-being of vulnerable populations\, including individuals with mental illness and rural populations at risk of stress and suicide.  \nFor more information\, click here. \n 
URL:https://www.addiction.rutgers.edu/event/nec-rotac-webinar-stress-on-the-farm-understanding-and-addressing-the-stress-and-suicide-risk-in-farmers/
LOCATION:Virtual
END:VEVENT
BEGIN:VEVENT
DTSTART;TZID=America/New_York:20230927T123000
DTEND;TZID=America/New_York:20230927T133000
DTSTAMP:20260425T090843
CREATED:20230921T212513Z
LAST-MODIFIED:20230921T213601Z
UID:5152-1695817800-1695821400@www.addiction.rutgers.edu
SUMMARY:RU Neuroconnections Seminar with Francesca LoFaro: Neural Signatures of Subjective Value in People with Opioid Use Disorder
DESCRIPTION:Francesca is a third year Neuroscience PhD student in Dr. Anna Konova’s Addiction and Decision Making Neuroscience Lab. She will be discussing her work on risk-taking and opioid use disorder. Using fMRI\, she has examined the role risk tolerances play on the neural representation of subjective value. First looking at group differences in people with OUD in comparison to healthy controls\, and then looking at the stability of these representations across OUD treatment using longitudinal MRI. Finally\, she will discuss probing how sex administration may impact these longitudinal studies in a contact context dependent manner. \nRefreshments will be served. \nLocation: Research Tower V12 \nJoin Zoom Meeting: https://rutgers.zoom.us/j/97521377610?pwd=blBSa3MyZIBmQUIISEtHSzB3VEHYQT09 \nID: 975 2137 7610 PW: 921440
URL:https://www.addiction.rutgers.edu/event/ru-neuroconnections-seminar-with-francesca-lofaro-neural-signatures-of-subjective-value-in-people-with-opioid-use-disorder/
LOCATION:Dean’s Conference Room\, Research Tower\, Busch Campus\, 675 Hoes Lane\, West Piscataway\, 08854
END:VEVENT
BEGIN:VEVENT
DTSTART;TZID=America/New_York:20230927T160000
DTEND;TZID=America/New_York:20230927T180000
DTSTAMP:20260425T090843
CREATED:20230901T134321Z
LAST-MODIFIED:20230901T134403Z
UID:4869-1695830400-1695837600@www.addiction.rutgers.edu
SUMMARY:Training in Addiction Research Program (TARP) Monthly Meeting
DESCRIPTION:Please join us for the Rutgers TARP First Monthly Meeting! \nAll are invited to the Rutgers Training in Addiction Research Program (TARP) meet and greet! This event is for all TARP and RARC faculty and trainees\, as well as collaborators and friends\, so feel free to pass along the invitation to others. Food and drinks will be provided. \nFor questions\, please contact rarc@bhi.rutgers.edu. \nLocation: Dean’s Conference Room\, First floor of the RWJMS Research Tower – 675 Hoes Lane West\, Piscataway\, NJ 08854 \nDate & Time: Thursday\, September 7\, 2023\, 4:00 – 6:00 PM
URL:https://www.addiction.rutgers.edu/event/training-in-addiction-research-program-tarp-monthly-meeting/
LOCATION:Deans Conference Room\, 675 Hoes Lane West\, Piscataway\, New Jersey\, 08854
END:VEVENT
END:VCALENDAR