BEGIN:VCALENDAR
VERSION:2.0
PRODID:-//Rutgers Addiction Research Center (RARC) - ECPv6.7.0//NONSGML v1.0//EN
CALSCALE:GREGORIAN
METHOD:PUBLISH
X-WR-CALNAME:Rutgers Addiction Research Center (RARC)
X-ORIGINAL-URL:https://www.addiction.rutgers.edu
X-WR-CALDESC:Events for Rutgers Addiction Research Center (RARC)
REFRESH-INTERVAL;VALUE=DURATION:PT1H
X-Robots-Tag:noindex
X-PUBLISHED-TTL:PT1H
BEGIN:VTIMEZONE
TZID:America/New_York
BEGIN:DAYLIGHT
TZOFFSETFROM:-0500
TZOFFSETTO:-0400
TZNAME:EDT
DTSTART:20230312T070000
END:DAYLIGHT
BEGIN:STANDARD
TZOFFSETFROM:-0400
TZOFFSETTO:-0500
TZNAME:EST
DTSTART:20231105T060000
END:STANDARD
END:VTIMEZONE
BEGIN:VEVENT
DTSTART;TZID=America/New_York:20230727T120000
DTEND;TZID=America/New_York:20230727T170000
DTSTAMP:20260423T073037
CREATED:20230713T135847Z
LAST-MODIFIED:20230713T140015Z
UID:4259-1690459200-1690477200@www.addiction.rutgers.edu
SUMMARY:NJ Cares Webinar: Public Health Barriers in Addressing the Opioid Epidemic
DESCRIPTION:As the opioid epidemic intensified in recent years\, more experts have acknowledged that the crisis is a public health emergency that will require a comprehensive strategy to address. While increased focus on public health has produced positive results\, there are still many barriers within the system that limit prevention\, treatment and recovery. Experts will discuss these barriers and how they are being addressed. \nRegistration: click here
URL:https://www.addiction.rutgers.edu/event/nj-cares-webinar-public-health-barriers-in-addressing-the-opioid-epidemic/
LOCATION:Virtual
END:VEVENT
END:VCALENDAR