BEGIN:VCALENDAR
VERSION:2.0
PRODID:-//Rutgers Addiction Research Center (RARC) - ECPv6.7.0//NONSGML v1.0//EN
CALSCALE:GREGORIAN
METHOD:PUBLISH
X-WR-CALNAME:Rutgers Addiction Research Center (RARC)
X-ORIGINAL-URL:https://www.addiction.rutgers.edu
X-WR-CALDESC:Events for Rutgers Addiction Research Center (RARC)
REFRESH-INTERVAL;VALUE=DURATION:PT1H
X-Robots-Tag:noindex
X-PUBLISHED-TTL:PT1H
BEGIN:VTIMEZONE
TZID:America/New_York
BEGIN:DAYLIGHT
TZOFFSETFROM:-0500
TZOFFSETTO:-0400
TZNAME:EDT
DTSTART:20230312T070000
END:DAYLIGHT
BEGIN:STANDARD
TZOFFSETFROM:-0400
TZOFFSETTO:-0500
TZNAME:EST
DTSTART:20231105T060000
END:STANDARD
END:VTIMEZONE
BEGIN:VEVENT
DTSTART;TZID=America/New_York:20230724T093000
DTEND;TZID=America/New_York:20230724T123000
DTSTAMP:20260419T223703
CREATED:20230619T171751Z
LAST-MODIFIED:20230619T171751Z
UID:4180-1690191000-1690201800@www.addiction.rutgers.edu
SUMMARY:SSW Webinar: Harm Reduction: From Principles to Practice
DESCRIPTION:This interactive webinar will discuss all aspects of harm reduction. Participants will be able to identify at least 3 principles of harm reduction work. Participants will be able to define harm reduction. Participants will also be able to differentiate between a successful harm reduction approach and less successful approaches and identify at least two reasons behind unsuccessful approaches. Participants will be introduced into the diagnostic criteria of the DSM and dimensional criteria of the ASAM 3\, in the lens of determining the need of admission to treatment and continued care need from a harm reduction treatment perspective. Participants will be able to identify three different medicated assisted treatments (MAT)\, and discussion of medicinal marijuana being added as an MAT option. [This webinar will complete your prescription opioid social work license requirement.] \nInstructor: Glenn Duncan\, LPC\, LCADC\, CCS\, ACS \nFor more information and registration: click here
URL:https://www.addiction.rutgers.edu/event/ssw-webinar-harm-reduction-from-principles-to-practice-2/
LOCATION:Virtual
END:VEVENT
END:VCALENDAR