BEGIN:VCALENDAR
VERSION:2.0
PRODID:-//Rutgers Addiction Research Center (RARC) - ECPv6.7.0//NONSGML v1.0//EN
CALSCALE:GREGORIAN
METHOD:PUBLISH
X-WR-CALNAME:Rutgers Addiction Research Center (RARC)
X-ORIGINAL-URL:https://www.addiction.rutgers.edu
X-WR-CALDESC:Events for Rutgers Addiction Research Center (RARC)
REFRESH-INTERVAL;VALUE=DURATION:PT1H
X-Robots-Tag:noindex
X-PUBLISHED-TTL:PT1H
BEGIN:VTIMEZONE
TZID:America/New_York
BEGIN:DAYLIGHT
TZOFFSETFROM:-0500
TZOFFSETTO:-0400
TZNAME:EDT
DTSTART:20230312T070000
END:DAYLIGHT
BEGIN:STANDARD
TZOFFSETFROM:-0400
TZOFFSETTO:-0500
TZNAME:EST
DTSTART:20231105T060000
END:STANDARD
END:VTIMEZONE
BEGIN:VEVENT
DTSTART;TZID=America/New_York:20230608T093000
DTEND;TZID=America/New_York:20230610T173000
DTSTAMP:20260420T200756
CREATED:20230512T122417Z
LAST-MODIFIED:20230512T122417Z
UID:4091-1686216600-1686418200@www.addiction.rutgers.edu
SUMMARY:Mental Health America Conference: Next Generation Prevention
DESCRIPTION:The 2023 Mental Health America (MHA) Conference is a weeklong event in Washington\, D.C.\, that will include Policy Institute Day on June 6\, MHA Affiliate Day on June 7\, and Annual Conference Days on June 8-10. All events will be offered in hybrid format on our custom platform and will include in-person\, live-streamed\, and virtual sessions with closed captioning.
URL:https://www.addiction.rutgers.edu/event/mental-health-america-conference-next-generation-prevention/
LOCATION:Hybrid Event
END:VEVENT
END:VCALENDAR