BEGIN:VCALENDAR
VERSION:2.0
PRODID:-//Rutgers Addiction Research Center (RARC) - ECPv6.7.0//NONSGML v1.0//EN
CALSCALE:GREGORIAN
METHOD:PUBLISH
X-WR-CALNAME:Rutgers Addiction Research Center (RARC)
X-ORIGINAL-URL:https://www.addiction.rutgers.edu
X-WR-CALDESC:Events for Rutgers Addiction Research Center (RARC)
REFRESH-INTERVAL;VALUE=DURATION:PT1H
X-Robots-Tag:noindex
X-PUBLISHED-TTL:PT1H
BEGIN:VTIMEZONE
TZID:America/New_York
BEGIN:DAYLIGHT
TZOFFSETFROM:-0500
TZOFFSETTO:-0400
TZNAME:EDT
DTSTART:20230312T070000
END:DAYLIGHT
BEGIN:STANDARD
TZOFFSETFROM:-0400
TZOFFSETTO:-0500
TZNAME:EST
DTSTART:20231105T060000
END:STANDARD
END:VTIMEZONE
BEGIN:VEVENT
DTSTART;VALUE=DATE:20230530
DTEND;VALUE=DATE:20230603
DTSTAMP:20260420T025156
CREATED:20220913T201903Z
LAST-MODIFIED:20220913T201903Z
UID:2377-1685404800-1685750399@www.addiction.rutgers.edu
SUMMARY:Society for Prevention Research (SPR) 31st Annual Meeting
DESCRIPTION:Mark your calendars to attend the Society for Prevention Research (SPR) 31st Annual Meeting held in person May 30 – June 2\, 2023. This year’s theme is “The Role of Prevention Science in Achieving Social Justice and Health Equity for All.” \nThe Society for Prevention Research envisions a wellness-oriented society in which evidenced-based programs and policies are continuously applied to improve the health and well-being of its citizens\, fostering positive human development and citizens who lead productive lives in caring relationships with others. \nThe SPR Annual Meeting provides a unique opportunity to advance this vision by providing a centrally integrated forum for the exchange of new concepts\, methods\, and results from prevention research and related public health fields; and by providing a forum for the communication between scientists\, public policy leaders and practitioners concerning the implementation of evidence-based preventive interventions in all areas of public health. \nThe conference is now accepting abstract submissions.
URL:https://www.addiction.rutgers.edu/event/society-for-prevention-research-spr-31st-annual-meeting/
LOCATION:Hyatt Regency Washington on Capitol Hill\, 400 New Jersey Avenue\, NW\, Washington\, D.C.\, 20001\, United States
ORGANIZER;CN="Society for Prevention Research":MAILTO:jenniferlewis@preventionresearch.org
END:VEVENT
END:VCALENDAR