BEGIN:VCALENDAR
VERSION:2.0
PRODID:-//Rutgers Addiction Research Center (RARC) - ECPv6.7.0//NONSGML v1.0//EN
CALSCALE:GREGORIAN
METHOD:PUBLISH
X-WR-CALNAME:Rutgers Addiction Research Center (RARC)
X-ORIGINAL-URL:https://www.addiction.rutgers.edu
X-WR-CALDESC:Events for Rutgers Addiction Research Center (RARC)
REFRESH-INTERVAL;VALUE=DURATION:PT1H
X-Robots-Tag:noindex
X-PUBLISHED-TTL:PT1H
BEGIN:VTIMEZONE
TZID:America/New_York
BEGIN:DAYLIGHT
TZOFFSETFROM:-0500
TZOFFSETTO:-0400
TZNAME:EDT
DTSTART:20230312T070000
END:DAYLIGHT
BEGIN:STANDARD
TZOFFSETFROM:-0400
TZOFFSETTO:-0500
TZNAME:EST
DTSTART:20231105T060000
END:STANDARD
END:VTIMEZONE
BEGIN:VEVENT
DTSTART;TZID=America/New_York:20230518T090000
DTEND;TZID=America/New_York:20230519T160000
DTSTAMP:20260421T064636
CREATED:20230419T151954Z
LAST-MODIFIED:20230419T151954Z
UID:3957-1684400400-1684512000@www.addiction.rutgers.edu
SUMMARY:NJPN Annual Addiction Conference 2023: Engage & Empower
DESCRIPTION:For 23 years\, NJPN has connected professionals with the latest science\, research\, and innovations in advancing the field of addiction at the Annual Addiction Conference. As always\, we strive to offer a balanced program with a carefully curated selection of workshops on current and emerging issues across the continuum of care.\nThe agenda for ENGAGE + EMPOWER will feature a diverse series of workshops that span prevention\, treatment\, and recovery support.
URL:https://www.addiction.rutgers.edu/event/njpn-annual-addiction-conference-2023-engage-empower/
LOCATION:Virtual
END:VEVENT
END:VCALENDAR