BEGIN:VCALENDAR
VERSION:2.0
PRODID:-//Rutgers Addiction Research Center (RARC) - ECPv6.7.0//NONSGML v1.0//EN
CALSCALE:GREGORIAN
METHOD:PUBLISH
X-WR-CALNAME:Rutgers Addiction Research Center (RARC)
X-ORIGINAL-URL:https://www.addiction.rutgers.edu
X-WR-CALDESC:Events for Rutgers Addiction Research Center (RARC)
REFRESH-INTERVAL;VALUE=DURATION:PT1H
X-Robots-Tag:noindex
X-PUBLISHED-TTL:PT1H
BEGIN:VTIMEZONE
TZID:America/New_York
BEGIN:DAYLIGHT
TZOFFSETFROM:-0500
TZOFFSETTO:-0400
TZNAME:EDT
DTSTART:20230312T070000
END:DAYLIGHT
BEGIN:STANDARD
TZOFFSETFROM:-0400
TZOFFSETTO:-0500
TZNAME:EST
DTSTART:20231105T060000
END:STANDARD
END:VTIMEZONE
BEGIN:VEVENT
DTSTART;TZID=America/New_York:20230427T080000
DTEND;TZID=America/New_York:20230428T170000
DTSTAMP:20260423T104305
CREATED:20230404T185449Z
LAST-MODIFIED:20230404T185449Z
UID:3901-1682582400-1682701200@www.addiction.rutgers.edu
SUMMARY:BHI-sponsored graduate student symposium: Neuron RECEPTR
DESCRIPTION:Neuron RECEPTR – Rutgers External Convention for Exceptionally Promising Trainee Research \nThe Neuro RECEPTR is a two-day symposium (April 27-28\, 2023) at Rutgers University\, featuring graduate students and faculty talks. This symposium is designed to connect graduate students with faculty looking for postdocs. If interested in participating in this symposium\, please apply by Monday\, January 30th\, 2023. If selected\, Rutgers will pay for all your expenses: flight\, two night-accommodation\, and food. Scientists from diverse backgrounds and life experiences bring different perspectives\, creativity\, and individual enterprise to address complex scientific problems. Women and minorities are encouraged to apply. \nThe final schedule with candidate names/talk titles are posted on the website (above) and also here.
URL:https://www.addiction.rutgers.edu/event/bhi-sponsored-graduate-student-symposium-neuron-receptr/
LOCATION:CABM Room 010 + atrium
END:VEVENT
BEGIN:VEVENT
DTSTART;TZID=America/New_York:20230427T093000
DTEND;TZID=America/New_York:20230427T123000
DTSTAMP:20260423T104305
CREATED:20230419T153145Z
LAST-MODIFIED:20230419T153234Z
UID:3962-1682587800-1682598600@www.addiction.rutgers.edu
SUMMARY:SSW Webinar: The Dynamics of Addiction\, Domestic Violence and Child Abuse
DESCRIPTION:It is clear that all forms of abuse are destructive. This webinar will address the interrelationships between addiction\, domestic violence and child abuse and the devastating impact they have on all involved. We will explore the values of maintaining dysfunction and what it takes to interrupt the process. The increased concerns over stress in the hostile home environment will also be discussed. \n\n\n\nnstructor: \nJohn Kriger\, MSM\, LCADC\, CPS\n\n\nDate: \nThursday\, April 27\, 2023\n\n\nTime: \n9:30 am – 12:30 pm ET\n\n\nLocation: \nZoom (Interactive Webinar)
URL:https://www.addiction.rutgers.edu/event/ssw-webinar-the-dynamics-of-addiction-domestic-violence-and-child-abuse/
LOCATION:Virtual
END:VEVENT
BEGIN:VEVENT
DTSTART;TZID=America/New_York:20230427T110000
DTEND;TZID=America/New_York:20230427T110000
DTSTAMP:20260423T104305
CREATED:20230404T175407Z
LAST-MODIFIED:20230404T175852Z
UID:3877-1682593200-1682593200@www.addiction.rutgers.edu
SUMMARY:Drug-free NJ Learning Series: The Collateral Impact of Opioid Misuse
DESCRIPTION:The effects of opioid misuse and addiction go beyond the physical and mental impact on the person using various forms of opioids\, including prescription painkillers\, heroin and fentanyl. Experts will outline the societal impacts \, such as impaired driving and domestic abuse\, during this webinar. \nRegistration: click here
URL:https://www.addiction.rutgers.edu/event/drug-free-nj-learning-series-the-collateral-impact-of-opioid-misuse/
LOCATION:Virtual
END:VEVENT
END:VCALENDAR