BEGIN:VCALENDAR
VERSION:2.0
PRODID:-//Rutgers Addiction Research Center (RARC) - ECPv6.7.0//NONSGML v1.0//EN
CALSCALE:GREGORIAN
METHOD:PUBLISH
X-WR-CALNAME:Rutgers Addiction Research Center (RARC)
X-ORIGINAL-URL:https://www.addiction.rutgers.edu
X-WR-CALDESC:Events for Rutgers Addiction Research Center (RARC)
REFRESH-INTERVAL;VALUE=DURATION:PT1H
X-Robots-Tag:noindex
X-PUBLISHED-TTL:PT1H
BEGIN:VTIMEZONE
TZID:America/New_York
BEGIN:DAYLIGHT
TZOFFSETFROM:-0500
TZOFFSETTO:-0400
TZNAME:EDT
DTSTART:20230312T070000
END:DAYLIGHT
BEGIN:STANDARD
TZOFFSETFROM:-0400
TZOFFSETTO:-0500
TZNAME:EST
DTSTART:20231105T060000
END:STANDARD
END:VTIMEZONE
BEGIN:VEVENT
DTSTART;TZID=America/New_York:20230418T080000
DTEND;TZID=America/New_York:20230420T170000
DTSTAMP:20260420T212504
CREATED:20230207T175731Z
LAST-MODIFIED:20230207T175800Z
UID:3651-1681804800-1682010000@www.addiction.rutgers.edu
SUMMARY:ACTS 2023 Translational Science Conference
DESCRIPTION:Join the Association for Clinical and Translational Science (ACTS)  in person in Washington\, DC for Translational Science 2023\, the leading meeting for trainees\, junior faculty\, and senior scientists in translational science and clinical research. From April 18-20\, learn from experts in the field how to innovate translational science for research\, explore research from a variety of fields of study\, build your professional community\, and explore the Nation’s Capital. \nRegister now to be a part of a national community of top translational science and clinical researchers. This April\, join us in Washington\, DC to experience the future of translational science and clinical research as we explore “Innovating Translational Science for Research”. Register early to save — the early bird rate ends Monday\, February 13.
URL:https://www.addiction.rutgers.edu/event/acts-2023-translational-science-conference/
LOCATION:Washington Hilton\, 1919 Connecticut Ave.\, NW\, Washington\, 20009
END:VEVENT
END:VCALENDAR