BEGIN:VCALENDAR
VERSION:2.0
PRODID:-//Rutgers Addiction Research Center (RARC) - ECPv6.7.0//NONSGML v1.0//EN
CALSCALE:GREGORIAN
METHOD:PUBLISH
X-ORIGINAL-URL:https://www.addiction.rutgers.edu
X-WR-CALDESC:Events for Rutgers Addiction Research Center (RARC)
REFRESH-INTERVAL;VALUE=DURATION:PT1H
X-Robots-Tag:noindex
X-PUBLISHED-TTL:PT1H
BEGIN:VTIMEZONE
TZID:America/New_York
BEGIN:DAYLIGHT
TZOFFSETFROM:-0500
TZOFFSETTO:-0400
TZNAME:EDT
DTSTART:20220313T070000
END:DAYLIGHT
BEGIN:STANDARD
TZOFFSETFROM:-0400
TZOFFSETTO:-0500
TZNAME:EST
DTSTART:20221106T060000
END:STANDARD
END:VTIMEZONE
BEGIN:VEVENT
DTSTART;VALUE=DATE:20221202
DTEND;VALUE=DATE:20221203
DTSTAMP:20260424T032833
CREATED:20220823T154032Z
LAST-MODIFIED:20221011T124320Z
UID:1981-1669939200-1670025599@www.addiction.rutgers.edu
SUMMARY:The Eighth Annual BHI Symposium
DESCRIPTION:Please save the date for the Eighth Annual BHI Symposium\, which will be held on Friday\, December 2nd\, 2022 at Busch Student Center in Piscataway. It will feature talks by Rutgers faculty presenting their cutting-edge research. The afternoon session includes student/post-doc poster presentations with cash awards to the top three best posters. \nThe keynote speaker for this year is Constance Cepko\, Ph.D. Dr. Cepko is Bullard Professor of Genetics and Neuroscience at Harvard Medical School and a Howard Hughes Medical Institute Investigator. She trained in virology with Phil Sharp at MIT for a Ph.D. and later with Richard Mulligan at the MIT Whitehead Institute. She helped develop retroviral vectors for transduction into the nervous system for lineage analysis and for studies of gene function in vivo. Her laboratory has focused on the topic of cell fate determination in the retina through the analysis of the behavior of progenitor and stem cells. More recently\, they have been studying the mechanisms of photoreceptor death in diseases that cause blindness\, such as retinitus pigmentosa and macular degeneration. \nSymposium program available by clicking here. \nThe deadline for poster abstract submission and early registration is November 1\, 2022. Please register by clicking here. \nEarly registration by November 1\, 2022\, is via a secure online portal with credit card ($50 Faculty; $20 trainees). \n 
URL:https://www.addiction.rutgers.edu/event/the-eight-annual-bhi-symposium/
LOCATION:Busch Student Center\, 604 Bartholomew Rd\, Piscataway\, NJ\, 08854
END:VEVENT
BEGIN:VEVENT
DTSTART;TZID=America/New_York:20221202T110000
DTEND;TZID=America/New_York:20221202T120000
DTSTAMP:20260424T032833
CREATED:20221201T181158Z
LAST-MODIFIED:20221201T181245Z
UID:3217-1669978800-1669982400@www.addiction.rutgers.edu
SUMMARY:Psychiatry Grand Rounds: Motivational Interviewing
DESCRIPTION:PsychiatryGrand Rounds – Motivational Interviewing\nInstructor: Michelle L. Drapkin\, Ph.D.\, ABPP\, Founder/Director\, Cognitive Behavior Therapy (CBT) Center\nTime: Dec 2\, 2022 12:15 PM ET\n\nJoin Zoom Meeting\nhttps://rutgers.zoom.us/j/95816790015?pwd=RzZSMis0TUM0VWJrQ2s1aTFmbnRodz09\n\n\n\n\n\nMeeting ID: 958 1679 0015\nPassword: 718892
URL:https://www.addiction.rutgers.edu/event/psychology-grand-rounds-motivational-interviewing/
LOCATION:Virtual
END:VEVENT
END:VCALENDAR