BEGIN:VCALENDAR
VERSION:2.0
PRODID:-//Rutgers Addiction Research Center (RARC) - ECPv6.7.0//NONSGML v1.0//EN
CALSCALE:GREGORIAN
METHOD:PUBLISH
X-WR-CALNAME:Rutgers Addiction Research Center (RARC)
X-ORIGINAL-URL:https://www.addiction.rutgers.edu
X-WR-CALDESC:Events for Rutgers Addiction Research Center (RARC)
REFRESH-INTERVAL;VALUE=DURATION:PT1H
X-Robots-Tag:noindex
X-PUBLISHED-TTL:PT1H
BEGIN:VTIMEZONE
TZID:America/New_York
BEGIN:DAYLIGHT
TZOFFSETFROM:-0500
TZOFFSETTO:-0400
TZNAME:EDT
DTSTART:20220313T070000
END:DAYLIGHT
BEGIN:STANDARD
TZOFFSETFROM:-0400
TZOFFSETTO:-0500
TZNAME:EST
DTSTART:20221106T060000
END:STANDARD
END:VTIMEZONE
BEGIN:VEVENT
DTSTART;TZID=America/New_York:20221129T100000
DTEND;TZID=America/New_York:20221129T130000
DTSTAMP:20260420T024700
CREATED:20221028T174127Z
LAST-MODIFIED:20221028T174127Z
UID:3053-1669716000-1669726800@www.addiction.rutgers.edu
SUMMARY:Rutgers SSW Webinar: What's Eating You? The Psychology of Eating
DESCRIPTION:This webinar focuses on understanding the psychological processes underlying humans development of eating behaviors and the adoption of both healthy and maladaptive cognitions and behaviors concerning food\, eating\, and our bodies. Issues to be addressed include: food choice\, the development of food preferences\, motivation to eat\, cultural influences on eating patterns\, weight-regulation\, body image\, dieting behaviors\, obesity\, eating disorders\, and the treatment of unhealthy and clinical eating problems. The psychology of eating will be emphasized\, and psychological problems associated with eating will be highlighted. \nInstructor: Katherine Glick\, MEd\, LPC\, LCADC\, ACS\, CMH\nDate: Tuesday\, November 29\, 2022\nTime: 10:00 am – 1:00 pm ET\nLocation: Zoom (Interactive Webinar)\nOnline Live Webinar\, Online\, NJ
URL:https://www.addiction.rutgers.edu/event/rutgers-ssw-webinar-whats-eating-you-the-psychology-of-eating/
LOCATION:Virtual
END:VEVENT
BEGIN:VEVENT
DTSTART;TZID=America/New_York:20221129T110000
DTEND;TZID=America/New_York:20221129T120000
DTSTAMP:20260420T024700
CREATED:20220831T174706Z
LAST-MODIFIED:20221012T213530Z
UID:2248-1669719600-1669723200@www.addiction.rutgers.edu
SUMMARY:NJMS Webinar: Social Connection Is Medicine: How Promoting Connection Improves Health
DESCRIPTION:Instructor: Kimberly Van Orden\, PhD Associate Professor\,\nDepartment of Psychiatry\, University of Rochester School of Medicine & Dentistry \n\n  \n\n\nTo Participate In Virtual Grand Rounds: \n\n\nJoin Zoom Meeting\nhttps://rutgers.zoom.us/j/94795837547?pwd=cFNLd Wx2OTB0c1o4WEtLcGw1R2ptZz09 \n\n\nMeeting ID: 947 9583 7547\nPassword: 694584 \n\n\nNJMS.Rutgers.edu/Psychiatry
URL:https://www.addiction.rutgers.edu/event/social-connection-is-medicine-how-promoting-connection-improves-health/
LOCATION:Virtual
END:VEVENT
END:VCALENDAR