BEGIN:VCALENDAR
VERSION:2.0
PRODID:-//Rutgers Addiction Research Center (RARC) - ECPv6.7.0//NONSGML v1.0//EN
CALSCALE:GREGORIAN
METHOD:PUBLISH
X-WR-CALNAME:Rutgers Addiction Research Center (RARC)
X-ORIGINAL-URL:https://www.addiction.rutgers.edu
X-WR-CALDESC:Events for Rutgers Addiction Research Center (RARC)
REFRESH-INTERVAL;VALUE=DURATION:PT1H
X-Robots-Tag:noindex
X-PUBLISHED-TTL:PT1H
BEGIN:VTIMEZONE
TZID:America/New_York
BEGIN:DAYLIGHT
TZOFFSETFROM:-0500
TZOFFSETTO:-0400
TZNAME:EDT
DTSTART:20220313T070000
END:DAYLIGHT
BEGIN:STANDARD
TZOFFSETFROM:-0400
TZOFFSETTO:-0500
TZNAME:EST
DTSTART:20221106T060000
END:STANDARD
END:VTIMEZONE
BEGIN:VEVENT
DTSTART;TZID=America/New_York:20221115T110000
DTEND;TZID=America/New_York:20221115T120000
DTSTAMP:20260425T122037
CREATED:20220831T174547Z
LAST-MODIFIED:20221012T213457Z
UID:2246-1668510000-1668513600@www.addiction.rutgers.edu
SUMMARY:NJMS Webinar: Important Topics in Child Psychiatry
DESCRIPTION:Instructor: Cathryn A. Galanter\, MD\nVisiting Associate Professor of Psychiatry\,\nDirector\, Child and Adolescent Psychiatry Fellowship Program \n\n  \n\n\nTo Participate In Virtual Grand Rounds: \n\n\nJoin Zoom Meeting\nhttps://rutgers.zoom.us/j/94795837547?pwd=cFNLd Wx2OTB0c1o4WEtLcGw1R2ptZz09 \n\n\nMeeting ID: 947 9583 7547\nPassword: 694584 \n\n\nNJMS.Rutgers.edu/Psychiatry
URL:https://www.addiction.rutgers.edu/event/important-topics-in-child-psychiatry/
LOCATION:Virtual
END:VEVENT
BEGIN:VEVENT
DTSTART;TZID=America/New_York:20221115T120000
DTEND;TZID=America/New_York:20221115T130000
DTSTAMP:20260425T122037
CREATED:20221012T215310Z
LAST-MODIFIED:20221012T215510Z
UID:2870-1668513600-1668517200@www.addiction.rutgers.edu
SUMMARY:CTN T&I SIG Virtual Meeting: Building Bridges Between Implementation Science and Health Equity Research
DESCRIPTION:The next meeting of the NIDA CTN Translation and Implementation (T&I) Special Interest Group (SIG) is Tuesday\, November 15th at 12:00 pm Eastern(9:00am Pacific). The meeting agenda is attached to this email and Zoom information is provided below. You are invited to join the meeting and attend a presentation by Dr. Leopoldo J. Cabassa. He will be presenting “Building Bridges Between Implementation Science and Health Equity Research.” This talk will present strategies and ways to infuse equity approaches into implementation science studies to proactively address healthcare inequities in historically marginalized populations.  \n Leopoldo J. Cabassa\, Ph.D.\, M.S.W. is a Puerto Rican social worker. He is a Professor\, Director of the Social Work PhD Program\, and Co-Director of the Center for Mental Health Services Research at the Brown School of Social Work at Washington University in St. Louis. His research centers on examining physical and mental health disparities in historically marginalized racial and ethnic populations with serious mental illness (SMI; e.g.\, schizophrenia\, major depression\, bipolar disorder). His work blends quantitative and qualitative methods\, health disparities research\, community engagement\, intervention research\, and implementation science. His research has been supported by the National Institute of Mental Health\, the New York State Office of Mental Health\, the National Institute on Minority Health and Health Disparities\, SAMHSA\, and the Robert Wood Johnson Foundation. Dr. Cabassa is a fellow of the Society for Social Work and Research and the American Academy of Social Work & Social Welfare. He is currently a member of the NIH Center for Scientific Review Advisory Board. His scholarship is making significant contributions in three areas: improving depression literacy and reducing stigma toward mental illness in the Latino community; 2) reducing physical health disparities in racial/ethnic minorities with SMI; and 3) improving the health and well-being of young adults experiencing first-episode psychosis.  \nWe hope you can join the meeting\, and feel free to share this meeting information across your Node. If you have any questions about the meeting\, please contact Dr. Hélène Garneau at Helene.chokrongarneau@stanford.edu \n  \nJoin Zoom Meeting: \nPassword: 056680 \nMeeting URL: https://stanford.zoom.us/j/92231304978?pwd=YzdTblRhZ1Vjc0RCVGdWR21FeVhZUT09&from=addon \n 
URL:https://www.addiction.rutgers.edu/event/ctn-ti-sig-virtual-meeting-building-bridges-between-implementation-science-and-health-equity-research/
LOCATION:Virtual
END:VEVENT
END:VCALENDAR